BEGIN:VCALENDAR
PRODID:-//eluceo/ical//2.0/EN
VERSION:2.0
CALSCALE:GREGORIAN
BEGIN:VEVENT
UID:0483c67604797dc225965de5006276a4
DTSTAMP:20260420T152314Z
SUMMARY:J1 CEBA 2 - ASPTT 6
DESCRIPTION:Équipe 2 · Saison 2023-2024\n\nJournée 1\nCEBA 2 - ASPTT 6
 \nDivision - D1\n\nPour la saison 2023-2024\, notre deuxième équipe joue
 ra en Division Départementale 1 Poule C du Bas-Rhin.L'équipe 2 termine l
 a saison en 1er position sur 11 !\n
URL:https://ceba-strasbourg.org/fr/interclubs/equipes/2/2023-2024
DTSTART;TZID=Europe/Paris:20231027T203000
DTEND;TZID=Europe/Paris:20231027T223000
LOCATION:Centre sportif des Droits de l'Homme
GEO:48.599366;7.777333
X-APPLE-STRUCTURED-LOCATION;VALUE=URI;X-ADDRESS=Centre sportif des Droits d
 e l'Homme;X-APPLE-RADIUS=49;X-TITLE=Centre sportif des Droits de l'Homme:g
 eo:48.599366,7.777333
ORGANIZER;CN=Jérémie Castel:mailto:team2@ceba-strasbourg.org
END:VEVENT
BEGIN:VEVENT
UID:3cc886191e7a33886a4b84f3a9fea2b6
DTSTAMP:20260420T152314Z
SUMMARY:J2 CEBA 2 - EVE 1
DESCRIPTION:Équipe 2 · Saison 2023-2024\n\nJournée 2\nCEBA 2 - EVE 1\n
 Division - D1\n\nPour la saison 2023-2024\, notre deuxième équipe jouera
  en Division Départementale 1 Poule C du Bas-Rhin.L'équipe 2 termine la 
 saison en 1er position sur 11 !\n
URL:https://ceba-strasbourg.org/fr/interclubs/equipes/2/2023-2024
DTSTART;TZID=Europe/Paris:20231110T203000
DTEND;TZID=Europe/Paris:20231110T223000
LOCATION:Centre sportif des Droits de l'Homme
GEO:48.599366;7.777333
X-APPLE-STRUCTURED-LOCATION;VALUE=URI;X-ADDRESS=Centre sportif des Droits d
 e l'Homme;X-APPLE-RADIUS=49;X-TITLE=Centre sportif des Droits de l'Homme:g
 eo:48.599366,7.777333
ORGANIZER;CN=Jérémie Castel:mailto:team2@ceba-strasbourg.org
END:VEVENT
BEGIN:VEVENT
UID:43581c584613813b138dbf3676e4b093
DTSTAMP:20260420T152314Z
SUMMARY:J3 BCO 5 - CEBA 2
DESCRIPTION:Équipe 2 · Saison 2023-2024\n\nJournée 3\nBCO 5 - CEBA 2\n
 Division - D1\n\nPour la saison 2023-2024\, notre deuxième équipe jouera
  en Division Départementale 1 Poule C du Bas-Rhin.L'équipe 2 termine la 
 saison en 1er position sur 11 !\n
URL:https://ceba-strasbourg.org/fr/interclubs/equipes/2/2023-2024
DTSTART;TZID=Europe/Paris:20231124T203000
DTEND;TZID=Europe/Paris:20231124T223000
LOCATION:Cosec - Rue des Lilas - 67540 OSTWALD
ORGANIZER;CN=Jérémie Castel:mailto:team2@ceba-strasbourg.org
END:VEVENT
BEGIN:VEVENT
UID:ff0cf0daa54d6cecae8dadbd2758295d
DTSTAMP:20260420T152314Z
SUMMARY:J4 CEBA 2 - BCMS 4
DESCRIPTION:Équipe 2 · Saison 2023-2024\n\nJournée 4\nCEBA 2 - BCMS 4\
 nDivision - D1\n\nPour la saison 2023-2024\, notre deuxième équipe jouer
 a en Division Départementale 1 Poule C du Bas-Rhin.L'équipe 2 termine la
  saison en 1er position sur 11 !\n
URL:https://ceba-strasbourg.org/fr/interclubs/equipes/2/2023-2024
DTSTART;TZID=Europe/Paris:20231206T203000
DTEND;TZID=Europe/Paris:20231206T223000
LOCATION:Centre sportif des Droits de l'Homme
GEO:48.599366;7.777333
X-APPLE-STRUCTURED-LOCATION;VALUE=URI;X-ADDRESS=Centre sportif des Droits d
 e l'Homme;X-APPLE-RADIUS=49;X-TITLE=Centre sportif des Droits de l'Homme:g
 eo:48.599366,7.777333
ORGANIZER;CN=Jérémie Castel:mailto:team2@ceba-strasbourg.org
END:VEVENT
BEGIN:VEVENT
UID:d591dcf5bd478c99325332b542beb8cf
DTSTAMP:20260420T152314Z
SUMMARY:J5 CEBA 2 - BCIG 1
DESCRIPTION:Équipe 2 · Saison 2023-2024\n\nJournée 5\nCEBA 2 - BCIG 1\
 nDivision - D1\n\nPour la saison 2023-2024\, notre deuxième équipe jouer
 a en Division Départementale 1 Poule C du Bas-Rhin.L'équipe 2 termine la
  saison en 1er position sur 11 !\n
URL:https://ceba-strasbourg.org/fr/interclubs/equipes/2/2023-2024
DTSTART;TZID=Europe/Paris:20231215T203000
DTEND;TZID=Europe/Paris:20231215T223000
LOCATION:Gymnase des vignes rue des vignes 67400 Illkirch
ORGANIZER;CN=Jérémie Castel:mailto:team2@ceba-strasbourg.org
END:VEVENT
BEGIN:VEVENT
UID:93cf3e5739f11c49625c319eeb534afc
DTSTAMP:20260420T152314Z
SUMMARY:J6 ASPTT 6 - CEBA 2
DESCRIPTION:Équipe 2 · Saison 2023-2024\n\nJournée 6\nASPTT 6 - CEBA 2
 \nDivision - D1\n\nPour la saison 2023-2024\, notre deuxième équipe joue
 ra en Division Départementale 1 Poule C du Bas-Rhin.L'équipe 2 termine l
 a saison en 1er position sur 11 !\n
URL:https://ceba-strasbourg.org/fr/interclubs/equipes/2/2023-2024
DTSTART;TZID=Europe/Paris:20240112T203000
DTEND;TZID=Europe/Paris:20240112T223000
LOCATION:Gymnase Herrade\, 43 Allee des Comtes\, 67200 Strasbourg
ORGANIZER;CN=Jérémie Castel:mailto:team2@ceba-strasbourg.org
END:VEVENT
BEGIN:VEVENT
UID:cd910101ddf4818bf319af328550f583
DTSTAMP:20260420T152314Z
SUMMARY:J7 EVE 1 - CEBA 2
DESCRIPTION:Équipe 2 · Saison 2023-2024\n\nJournée 7\nEVE 1 - CEBA 2\n
 Division - D1\n\nPour la saison 2023-2024\, notre deuxième équipe jouera
  en Division Départementale 1 Poule C du Bas-Rhin.L'équipe 2 termine la 
 saison en 1er position sur 11 !\n
URL:https://ceba-strasbourg.org/fr/interclubs/equipes/2/2023-2024
DTSTART;TZID=Europe/Paris:20240126T203000
DTEND;TZID=Europe/Paris:20240126T223000
LOCATION:L'Envol
ORGANIZER;CN=Jérémie Castel:mailto:team2@ceba-strasbourg.org
END:VEVENT
BEGIN:VEVENT
UID:a9b05fa78634b5742f5cea65115feb54
DTSTAMP:20260420T152314Z
SUMMARY:J8 CEBA 2 - BCO 5
DESCRIPTION:Équipe 2 · Saison 2023-2024\n\nJournée 8\nCEBA 2 - BCO 5\n
 Division - D1\n\nPour la saison 2023-2024\, notre deuxième équipe jouera
  en Division Départementale 1 Poule C du Bas-Rhin.L'équipe 2 termine la 
 saison en 1er position sur 11 !\n
URL:https://ceba-strasbourg.org/fr/interclubs/equipes/2/2023-2024
DTSTART;TZID=Europe/Paris:20240216T203000
DTEND;TZID=Europe/Paris:20240216T223000
LOCATION:Centre sportif des Droits de l'Homme
GEO:48.599366;7.777333
X-APPLE-STRUCTURED-LOCATION;VALUE=URI;X-ADDRESS=Centre sportif des Droits d
 e l'Homme;X-APPLE-RADIUS=49;X-TITLE=Centre sportif des Droits de l'Homme:g
 eo:48.599366,7.777333
ORGANIZER;CN=Jérémie Castel:mailto:team2@ceba-strasbourg.org
END:VEVENT
BEGIN:VEVENT
UID:dc641f6786ba6bfa2c4c69d312b8e6e9
DTSTAMP:20260420T152314Z
SUMMARY:J9 BCMS 4 - CEBA 2
DESCRIPTION:Équipe 2 · Saison 2023-2024\n\nJournée 9\nBCMS 4 - CEBA 2\
 nDivision - D1\n\nPour la saison 2023-2024\, notre deuxième équipe jouer
 a en Division Départementale 1 Poule C du Bas-Rhin.L'équipe 2 termine la
  saison en 1er position sur 11 !\n
URL:https://ceba-strasbourg.org/fr/interclubs/equipes/2/2023-2024
DTSTART;TZID=Europe/Paris:20240223T203000
DTEND;TZID=Europe/Paris:20240223T223000
LOCATION:Salle Bon Pasteur\, 12 Bd Jean-Sébastien Bach\, 67000 Strasbourg
ORGANIZER;CN=Jérémie Castel:mailto:team2@ceba-strasbourg.org
END:VEVENT
BEGIN:VEVENT
UID:5a8fb8e491e6657edf7b5266b5011400
DTSTAMP:20260420T152314Z
SUMMARY:J10 BCIG 1 - CEBA 2
DESCRIPTION:Équipe 2 · Saison 2023-2024\n\nJournée 10\nBCIG 1 - CEBA 2
 \nDivision - D1\n\nPour la saison 2023-2024\, notre deuxième équipe joue
 ra en Division Départementale 1 Poule C du Bas-Rhin.L'équipe 2 termine l
 a saison en 1er position sur 11 !\n
URL:https://ceba-strasbourg.org/fr/interclubs/equipes/2/2023-2024
DTSTART;TZID=Europe/Paris:20240311T204500
DTEND;TZID=Europe/Paris:20240311T224500
LOCATION:Centre sportif des Droits de l'Homme
GEO:48.599366;7.777333
X-APPLE-STRUCTURED-LOCATION;VALUE=URI;X-ADDRESS=Centre sportif des Droits d
 e l'Homme;X-APPLE-RADIUS=49;X-TITLE=Centre sportif des Droits de l'Homme:g
 eo:48.599366,7.777333
ORGANIZER;CN=Jérémie Castel:mailto:team2@ceba-strasbourg.org
END:VEVENT
BEGIN:VEVENT
UID:12f75280b4f5e9fcd5d36a8f2d35facd
DTSTAMP:20260420T152314Z
SUMMARY:C1 BCS 3 - CEBA 2
DESCRIPTION:Équipe 2 · Saison 2023-2024\n\nClassement 1\nBCS 3 - CEBA 2\
 nDivision - D1\n\nPour la saison 2023-2024\, notre deuxième équipe jouer
 a en Division Départementale 1 Poule C du Bas-Rhin.L'équipe 2 termine la
  saison en 1er position sur 11 !\n
URL:https://ceba-strasbourg.org/fr/interclubs/equipes/2/2023-2024
DTSTART;TZID=Europe/Paris:20240505T090000
DTEND;TZID=Europe/Paris:20240505T110000
LOCATION:Salle Glassmann\, 57370 Phalsbourg
GEO:48.769460;7.268590
X-APPLE-STRUCTURED-LOCATION;VALUE=URI;X-ADDRESS=Salle Glassmann\, 57370 Pha
 lsbourg;X-APPLE-RADIUS=49;X-TITLE=Salle Glassmann\, 57370 Phalsbourg:geo:4
 8.769460,7.268590
ORGANIZER;CN=Jérémie Castel:mailto:team2@ceba-strasbourg.org
END:VEVENT
BEGIN:VEVENT
UID:f155d638e3429ae5e8b820c476416ae4
DTSTAMP:20260420T152314Z
SUMMARY:C2 BCMS 3 - CEBA 2
DESCRIPTION:Équipe 2 · Saison 2023-2024\n\nClassement 2\nBCMS 3 - CEBA 2
 \nDivision - D1\n\nPour la saison 2023-2024\, notre deuxième équipe joue
 ra en Division Départementale 1 Poule C du Bas-Rhin.L'équipe 2 termine l
 a saison en 1er position sur 11 !\n
URL:https://ceba-strasbourg.org/fr/interclubs/equipes/2/2023-2024
DTSTART;TZID=Europe/Paris:20240505T130000
DTEND;TZID=Europe/Paris:20240505T150000
LOCATION:Salle Glassmann\, 57370 Phalsbourg
GEO:48.769460;7.268590
X-APPLE-STRUCTURED-LOCATION;VALUE=URI;X-ADDRESS=Salle Glassmann\, 57370 Pha
 lsbourg;X-APPLE-RADIUS=49;X-TITLE=Salle Glassmann\, 57370 Phalsbourg:geo:4
 8.769460,7.268590
ORGANIZER;CN=Jérémie Castel:mailto:team2@ceba-strasbourg.org
END:VEVENT
BEGIN:VEVENT
UID:0acfd12e936a4707d46f161aca3310e9
DTSTAMP:20260420T152314Z
SUMMARY:C3 CEBA 2 - PBC 2
DESCRIPTION:Équipe 2 · Saison 2023-2024\n\nClassement 3\nCEBA 2 - PBC 2\
 nDivision - D1\n\nPour la saison 2023-2024\, notre deuxième équipe jouer
 a en Division Départementale 1 Poule C du Bas-Rhin.L'équipe 2 termine la
  saison en 1er position sur 11 !\n
URL:https://ceba-strasbourg.org/fr/interclubs/equipes/2/2023-2024
DTSTART;TZID=Europe/Paris:20240505T160000
DTEND;TZID=Europe/Paris:20240505T180000
LOCATION:Salle Glassmann\, 57370 Phalsbourg
GEO:48.769460;7.268590
X-APPLE-STRUCTURED-LOCATION;VALUE=URI;X-ADDRESS=Salle Glassmann\, 57370 Pha
 lsbourg;X-APPLE-RADIUS=49;X-TITLE=Salle Glassmann\, 57370 Phalsbourg:geo:4
 8.769460,7.268590
ORGANIZER;CN=Jérémie Castel:mailto:team2@ceba-strasbourg.org
END:VEVENT
BEGIN:VTIMEZONE
TZID:Europe/Paris
END:VTIMEZONE
END:VCALENDAR
