BEGIN:VCALENDAR
PRODID:-//eluceo/ical//2.0/EN
VERSION:2.0
CALSCALE:GREGORIAN
BEGIN:VEVENT
UID:598b3948ccf2286231890bc58e350a2a
DTSTAMP:20260422T012127Z
SUMMARY:J1 CEBA 4 - BCMS 9
DESCRIPTION:Équipe 4 · Saison 2025-2026\n\nJournée 1\nCEBA 4 - BCMS 9\n
 Division - Départementale 5\n\n\nPour la saison 2025-2026\, notre quatri
 ème équipe jouera en Division Départementale 5 Poule D du Bas-Rhin.\n\n
URL:https://ceba-strasbourg.org/fr-FR/interclubs/equipes/4/2025-2026
DTSTART;TZID=Europe/Paris:20251017T203000
DTEND;TZID=Europe/Paris:20251017T223000
LOCATION:Centre sportif du Bon Pasteur\, 6 boulevard Jean-Sébastien Bach\,
  67000 Strasbourg
ORGANIZER;CN=Catherine Gire:mailto:team4@ceba-strasbourg.org
END:VEVENT
BEGIN:VEVENT
UID:6a7d0a0319c1e4ac8acdd1c663f189d9
DTSTAMP:20260422T012127Z
SUMMARY:J2 ASCS 6 - CEBA 4
DESCRIPTION:Équipe 4 · Saison 2025-2026\n\nJournée 2\nASCS 6 - CEBA 4\n
 Division - Départementale 5\n\n\nPour la saison 2025-2026\, notre quatri
 ème équipe jouera en Division Départementale 5 Poule D du Bas-Rhin.\n\n
URL:https://ceba-strasbourg.org/fr-FR/interclubs/equipes/4/2025-2026
DTSTART;TZID=Europe/Paris:20251109T200000
DTEND;TZID=Europe/Paris:20251109T220000
LOCATION:Hall Wilson\, 3 boulevard Wilson\, 67000 Strasbourg
ORGANIZER;CN=Catherine Gire:mailto:team4@ceba-strasbourg.org
END:VEVENT
BEGIN:VEVENT
UID:e622c70482d039854c99d7a0d9e3c08a
DTSTAMP:20260422T012127Z
SUMMARY:J3 CEBA 4 - FBD 2
DESCRIPTION:Équipe 4 · Saison 2025-2026\n\nJournée 3\nCEBA 4 - FBD 2\nD
 ivision - Départementale 5\n\n\nPour la saison 2025-2026\, notre quatriè
 me équipe jouera en Division Départementale 5 Poule D du Bas-Rhin.\n\n
URL:https://ceba-strasbourg.org/fr-FR/interclubs/equipes/4/2025-2026
DTSTART;TZID=Europe/Paris:20251121T201500
DTEND;TZID=Europe/Paris:20251121T221500
LOCATION:Gymnase International Robert Schumann
GEO:48.580460;7.772420
X-APPLE-STRUCTURED-LOCATION;VALUE=URI;X-ADDRESS=Gymnase International Rober
 t Schumann;X-APPLE-RADIUS=49;X-TITLE=Gymnase International Robert Schumann
 :geo:48.580460,7.772420
ORGANIZER;CN=Catherine Gire:mailto:team4@ceba-strasbourg.org
END:VEVENT
BEGIN:VEVENT
UID:4f70d0df7ece807f678a07626fc69a6d
DTSTAMP:20260422T012127Z
SUMMARY:J4 CEBA 4 - SLCSN 2
DESCRIPTION:Équipe 4 · Saison 2025-2026\n\nJournée 4\nCEBA 4 - SLCSN 2\
 nDivision - Départementale 5\n\n\nPour la saison 2025-2026\, notre quatri
 ème équipe jouera en Division Départementale 5 Poule D du Bas-Rhin.\n\n
URL:https://ceba-strasbourg.org/fr-FR/interclubs/equipes/4/2025-2026
DTSTART;TZID=Europe/Paris:20251212T201500
DTEND;TZID=Europe/Paris:20251212T221500
LOCATION:Gymnase International Robert Schumann
GEO:48.580460;7.772420
X-APPLE-STRUCTURED-LOCATION;VALUE=URI;X-ADDRESS=Gymnase International Rober
 t Schumann;X-APPLE-RADIUS=49;X-TITLE=Gymnase International Robert Schumann
 :geo:48.580460,7.772420
ORGANIZER;CN=Catherine Gire:mailto:team4@ceba-strasbourg.org
END:VEVENT
BEGIN:VEVENT
UID:4aef7fe295ac1cb64eea8ca60800adfb
DTSTAMP:20260422T012127Z
SUMMARY:J5 CEBA 4 - BCSO 2
DESCRIPTION:Équipe 4 · Saison 2025-2026\n\nJournée 5\nCEBA 4 - BCSO 2\n
 Division - Départementale 5\n\n\nPour la saison 2025-2026\, notre quatri
 ème équipe jouera en Division Départementale 5 Poule D du Bas-Rhin.\n\n
URL:https://ceba-strasbourg.org/fr-FR/interclubs/equipes/4/2025-2026
DTSTART;TZID=Europe/Paris:20260116T201500
DTEND;TZID=Europe/Paris:20260116T221500
LOCATION:Gymnase International Robert Schumann
GEO:48.580460;7.772420
X-APPLE-STRUCTURED-LOCATION;VALUE=URI;X-ADDRESS=Gymnase International Rober
 t Schumann;X-APPLE-RADIUS=49;X-TITLE=Gymnase International Robert Schumann
 :geo:48.580460,7.772420
ORGANIZER;CN=Catherine Gire:mailto:team4@ceba-strasbourg.org
END:VEVENT
BEGIN:VEVENT
UID:f47338f0e62d990ccada0ad8b79e3a6e
DTSTAMP:20260422T012127Z
SUMMARY:J6 CEBA 4 - BCMS 9
DESCRIPTION:Équipe 4 · Saison 2025-2026\n\nJournée 6\nCEBA 4 - BCMS 9\n
 Division - Départementale 5\n\n\nPour la saison 2025-2026\, notre quatri
 ème équipe jouera en Division Départementale 5 Poule D du Bas-Rhin.\n\n
URL:https://ceba-strasbourg.org/fr-FR/interclubs/equipes/4/2025-2026
DTSTART;TZID=Europe/Paris:20260130T201500
DTEND;TZID=Europe/Paris:20260130T221500
LOCATION:Gymnase International Robert Schumann
GEO:48.580460;7.772420
X-APPLE-STRUCTURED-LOCATION;VALUE=URI;X-ADDRESS=Gymnase International Rober
 t Schumann;X-APPLE-RADIUS=49;X-TITLE=Gymnase International Robert Schumann
 :geo:48.580460,7.772420
ORGANIZER;CN=Catherine Gire:mailto:team4@ceba-strasbourg.org
END:VEVENT
BEGIN:VEVENT
UID:91630845f39c3479cfb83f3e7d58d1d3
DTSTAMP:20260422T012127Z
SUMMARY:J7 CEBA 4 - ASCS 6
DESCRIPTION:Équipe 4 · Saison 2025-2026\n\nJournée 7\nCEBA 4 - ASCS 6\n
 Division - Départementale 5\n\n\nPour la saison 2025-2026\, notre quatri
 ème équipe jouera en Division Départementale 5 Poule D du Bas-Rhin.\n\n
URL:https://ceba-strasbourg.org/fr-FR/interclubs/equipes/4/2025-2026
DTSTART;TZID=Europe/Paris:20260213T201500
DTEND;TZID=Europe/Paris:20260213T221500
LOCATION:Gymnase International Robert Schumann
GEO:48.580460;7.772420
X-APPLE-STRUCTURED-LOCATION;VALUE=URI;X-ADDRESS=Gymnase International Rober
 t Schumann;X-APPLE-RADIUS=49;X-TITLE=Gymnase International Robert Schumann
 :geo:48.580460,7.772420
ORGANIZER;CN=Catherine Gire:mailto:team4@ceba-strasbourg.org
END:VEVENT
BEGIN:VEVENT
UID:458b10f5d3747c991000f9c2b673f0fe
DTSTAMP:20260422T012127Z
SUMMARY:J8 FBD 2 - CEBA 4
DESCRIPTION:Équipe 4 · Saison 2025-2026\n\nJournée 8\nFBD 2 - CEBA 4\nD
 ivision - Départementale 5\n\n\nPour la saison 2025-2026\, notre quatriè
 me équipe jouera en Division Départementale 5 Poule D du Bas-Rhin.\n\n
URL:https://ceba-strasbourg.org/fr-FR/interclubs/equipes/4/2025-2026
DTSTART;TZID=Europe/Paris:20260311T203000
DTEND;TZID=Europe/Paris:20260311T223000
LOCATION:Gymnase du Heyritz\, Allée Colette Besson\, 67100\, Strasbourg
ORGANIZER;CN=Catherine Gire:mailto:team4@ceba-strasbourg.org
END:VEVENT
BEGIN:VEVENT
UID:1909b7fce8e78de339aea60aee106e3d
DTSTAMP:20260422T012127Z
SUMMARY:J9 SLCSN 2 - CEBA 4
DESCRIPTION:Équipe 4 · Saison 2025-2026\n\nJournée 9\nSLCSN 2 - CEBA 4\
 nDivision - Départementale 5\n\n\nPour la saison 2025-2026\, notre quatri
 ème équipe jouera en Division Départementale 5 Poule D du Bas-Rhin.\n\n
URL:https://ceba-strasbourg.org/fr-FR/interclubs/equipes/4/2025-2026
DTSTART;TZID=Europe/Paris:20260323T200000
DTEND;TZID=Europe/Paris:20260323T220000
LOCATION:Gymnase Aristide Briand\, 43 avenue du Rhin\, 67100 Strasbourg (Pa
 rking gratuit à l'arrière)
ORGANIZER;CN=Catherine Gire:mailto:team4@ceba-strasbourg.org
END:VEVENT
BEGIN:VEVENT
UID:ecebc99bcb398ed433946657fc54f8e4
DTSTAMP:20260422T012127Z
SUMMARY:J10 BCSO 2 - CEBA 4
DESCRIPTION:Équipe 4 · Saison 2025-2026\n\nJournée 10\nBCSO 2 - CEBA 4\
 nDivision - Départementale 5\n\n\nPour la saison 2025-2026\, notre quatri
 ème équipe jouera en Division Départementale 5 Poule D du Bas-Rhin.\n\n
URL:https://ceba-strasbourg.org/fr-FR/interclubs/equipes/4/2025-2026
DTSTART;TZID=Europe/Paris:20260406T203000
DTEND;TZID=Europe/Paris:20260406T223000
LOCATION:Centre Sportif du Kochersberg\, rue Godofredo Perez\, 67370 Trucht
 ersheim
ORGANIZER;CN=Catherine Gire:mailto:team4@ceba-strasbourg.org
END:VEVENT
BEGIN:VTIMEZONE
TZID:Europe/Paris
END:VTIMEZONE
END:VCALENDAR
