BEGIN:VCALENDAR
PRODID:-//eluceo/ical//2.0/EN
VERSION:2.0
CALSCALE:GREGORIAN
BEGIN:VEVENT
UID:1f8f8d75d283e8932f8963b1ab2f188d
DTSTAMP:20260422T012128Z
SUMMARY:J1 BCMS 8 - CEBA 3
DESCRIPTION:Équipe 3 · Saison 2025-2026\n\nJournée 1\nBCMS 8 - CEBA 3\n
 Division - Départementale 4\n\n\nPour la saison 2025-2026\, notre troisi
 ème équipe jouera en Division Départementale 4 Poule F du Bas-Rhin.\n\n
URL:https://ceba-strasbourg.org/fr-FR/interclubs/equipes/3/2025-2026
DTSTART;TZID=Europe/Paris:20251017T203000
DTEND;TZID=Europe/Paris:20251017T223000
LOCATION:Centre sportif du Bon Pasteur\, 6 boulevard Jean-Sébastien Bach\,
  67000 Strasbourg
ORGANIZER;CN=Noël Bonhomme:mailto:team3@ceba-strasbourg.org
END:VEVENT
BEGIN:VEVENT
UID:cd80c77ae5235106b77be49a40c5db3e
DTSTAMP:20260422T012128Z
SUMMARY:J2 BCIG 3 - CEBA 3
DESCRIPTION:Équipe 3 · Saison 2025-2026\n\nJournée 2\nBCIG 3 - CEBA 3\n
 Division - Départementale 4\n\n\nPour la saison 2025-2026\, notre troisi
 ème équipe jouera en Division Départementale 4 Poule F du Bas-Rhin.\n\n
URL:https://ceba-strasbourg.org/fr-FR/interclubs/equipes/3/2025-2026
DTSTART;TZID=Europe/Paris:20251107T204500
DTEND;TZID=Europe/Paris:20251107T224500
LOCATION:Gymnase des vignes\, rue des vignes\, 67400 Illkirch
ORGANIZER;CN=Noël Bonhomme:mailto:team3@ceba-strasbourg.org
END:VEVENT
BEGIN:VEVENT
UID:a6e2bb6952ee37b7c9a5f70dc0e71fcc
DTSTAMP:20260422T012128Z
SUMMARY:J3 CEBA 3 - HBC 1
DESCRIPTION:Équipe 3 · Saison 2025-2026\n\nJournée 3\nCEBA 3 - HBC 1\nD
 ivision - Départementale 4\n\n\nPour la saison 2025-2026\, notre troisiè
 me équipe jouera en Division Départementale 4 Poule F du Bas-Rhin.\n\n
URL:https://ceba-strasbourg.org/fr-FR/interclubs/equipes/3/2025-2026
DTSTART;TZID=Europe/Paris:20251121T201500
DTEND;TZID=Europe/Paris:20251121T221500
LOCATION:Gymnase International Robert Schumann
GEO:48.580460;7.772420
X-APPLE-STRUCTURED-LOCATION;VALUE=URI;X-ADDRESS=Gymnase International Rober
 t Schumann;X-APPLE-RADIUS=49;X-TITLE=Gymnase International Robert Schumann
 :geo:48.580460,7.772420
ORGANIZER;CN=Noël Bonhomme:mailto:team3@ceba-strasbourg.org
END:VEVENT
BEGIN:VEVENT
UID:6a26ba86ba23f0ac648fc6175a46f530
DTSTAMP:20260422T012128Z
SUMMARY:J4 CEBA 3 - BCN 1
DESCRIPTION:Équipe 3 · Saison 2025-2026\n\nJournée 4\nCEBA 3 - BCN 1\nD
 ivision - Départementale 4\n\n\nPour la saison 2025-2026\, notre troisiè
 me équipe jouera en Division Départementale 4 Poule F du Bas-Rhin.\n\n
URL:https://ceba-strasbourg.org/fr-FR/interclubs/equipes/3/2025-2026
DTSTART;TZID=Europe/Paris:20251212T201500
DTEND;TZID=Europe/Paris:20251212T221500
LOCATION:Gymnase International Robert Schumann
GEO:48.580460;7.772420
X-APPLE-STRUCTURED-LOCATION;VALUE=URI;X-ADDRESS=Gymnase International Rober
 t Schumann;X-APPLE-RADIUS=49;X-TITLE=Gymnase International Robert Schumann
 :geo:48.580460,7.772420
ORGANIZER;CN=Noël Bonhomme:mailto:team3@ceba-strasbourg.org
END:VEVENT
BEGIN:VEVENT
UID:bfb0a76efc9eb51e3a66f7fc9a7eace1
DTSTAMP:20260422T012128Z
SUMMARY:J5 CEBA 3 - CCSSL 6
DESCRIPTION:Équipe 3 · Saison 2025-2026\n\nJournée 5\nCEBA 3 - CCSSL 6\
 nDivision - Départementale 4\n\n\nPour la saison 2025-2026\, notre troisi
 ème équipe jouera en Division Départementale 4 Poule F du Bas-Rhin.\n\n
URL:https://ceba-strasbourg.org/fr-FR/interclubs/equipes/3/2025-2026
DTSTART;TZID=Europe/Paris:20260116T201500
DTEND;TZID=Europe/Paris:20260116T221500
LOCATION:Gymnase International Robert Schumann
GEO:48.580460;7.772420
X-APPLE-STRUCTURED-LOCATION;VALUE=URI;X-ADDRESS=Gymnase International Rober
 t Schumann;X-APPLE-RADIUS=49;X-TITLE=Gymnase International Robert Schumann
 :geo:48.580460,7.772420
ORGANIZER;CN=Noël Bonhomme:mailto:team3@ceba-strasbourg.org
END:VEVENT
BEGIN:VEVENT
UID:a27f062c4fc8bd5f5a7b72960dd1cfd6
DTSTAMP:20260422T012128Z
SUMMARY:J6 CEBA 3 - BCMS 8
DESCRIPTION:Équipe 3 · Saison 2025-2026\n\nJournée 6\nCEBA 3 - BCMS 8\n
 Division - Départementale 4\n\n\nPour la saison 2025-2026\, notre troisi
 ème équipe jouera en Division Départementale 4 Poule F du Bas-Rhin.\n\n
URL:https://ceba-strasbourg.org/fr-FR/interclubs/equipes/3/2025-2026
DTSTART;TZID=Europe/Paris:20260130T201500
DTEND;TZID=Europe/Paris:20260130T221500
LOCATION:Gymnase International Robert Schumann
GEO:48.580460;7.772420
X-APPLE-STRUCTURED-LOCATION;VALUE=URI;X-ADDRESS=Gymnase International Rober
 t Schumann;X-APPLE-RADIUS=49;X-TITLE=Gymnase International Robert Schumann
 :geo:48.580460,7.772420
ORGANIZER;CN=Noël Bonhomme:mailto:team3@ceba-strasbourg.org
END:VEVENT
BEGIN:VEVENT
UID:8674d3f9d71a1d0ed5ef98e40959502b
DTSTAMP:20260422T012128Z
SUMMARY:J7 CEBA 3 - BCIG 3
DESCRIPTION:Équipe 3 · Saison 2025-2026\n\nJournée 7\nCEBA 3 - BCIG 3\n
 Division - Départementale 4\n\n\nPour la saison 2025-2026\, notre troisi
 ème équipe jouera en Division Départementale 4 Poule F du Bas-Rhin.\n\n
URL:https://ceba-strasbourg.org/fr-FR/interclubs/equipes/3/2025-2026
DTSTART;TZID=Europe/Paris:20260213T201500
DTEND;TZID=Europe/Paris:20260213T221500
LOCATION:Gymnase International Robert Schumann
GEO:48.580460;7.772420
X-APPLE-STRUCTURED-LOCATION;VALUE=URI;X-ADDRESS=Gymnase International Rober
 t Schumann;X-APPLE-RADIUS=49;X-TITLE=Gymnase International Robert Schumann
 :geo:48.580460,7.772420
ORGANIZER;CN=Noël Bonhomme:mailto:team3@ceba-strasbourg.org
END:VEVENT
BEGIN:VEVENT
UID:77775dde55dfaab8b2a09389e03ab426
DTSTAMP:20260422T012128Z
SUMMARY:J8 HBC 1 - CEBA 3
DESCRIPTION:Équipe 3 · Saison 2025-2026\n\nJournée 8\nHBC 1 - CEBA 3\nD
 ivision - Départementale 4\n\n\nPour la saison 2025-2026\, notre troisiè
 me équipe jouera en Division Départementale 4 Poule F du Bas-Rhin.\n\n
URL:https://ceba-strasbourg.org/fr-FR/interclubs/equipes/3/2025-2026
DTSTART;TZID=Europe/Paris:20260313T203000
DTEND;TZID=Europe/Paris:20260313T223000
LOCATION:Gymnase Karine C\, 37 rue Baden Powell\, 67200 Strasbourg
ORGANIZER;CN=Noël Bonhomme:mailto:team3@ceba-strasbourg.org
END:VEVENT
BEGIN:VEVENT
UID:6115e18b2b2e0563d5e6a53d8f492887
DTSTAMP:20260422T012128Z
SUMMARY:J9 BCN 1 - CEBA 3
DESCRIPTION:Équipe 3 · Saison 2025-2026\n\nJournée 9\nBCN 1 - CEBA 3\nD
 ivision - Départementale 4\n\n\nPour la saison 2025-2026\, notre troisiè
 me équipe jouera en Division Départementale 4 Poule F du Bas-Rhin.\n\n
URL:https://ceba-strasbourg.org/fr-FR/interclubs/equipes/3/2025-2026
DTSTART;TZID=Europe/Paris:20260324T200000
DTEND;TZID=Europe/Paris:20260324T220000
LOCATION:Gymnase SOLIGNAC\, Rue de Figeac\, 67100 Strasbourg
ORGANIZER;CN=Noël Bonhomme:mailto:team3@ceba-strasbourg.org
END:VEVENT
BEGIN:VEVENT
UID:5184c217a0b19cff11153f61a055ec54
DTSTAMP:20260422T012128Z
SUMMARY:J10 CCSSL 6 - CEBA 3
DESCRIPTION:Équipe 3 · Saison 2025-2026\n\nJournée 10\nCCSSL 6 - CEBA 3
 \nDivision - Départementale 4\n\n\nPour la saison 2025-2026\, notre trois
 ième équipe jouera en Division Départementale 4 Poule F du Bas-Rhin.\n\
 n
URL:https://ceba-strasbourg.org/fr-FR/interclubs/equipes/3/2025-2026
DTSTART;TZID=Europe/Paris:20260407T200000
DTEND;TZID=Europe/Paris:20260407T220000
LOCATION:Salle Im Sand\, 27 rue du travail 67540 Lingolsheim
ORGANIZER;CN=Noël Bonhomme:mailto:team3@ceba-strasbourg.org
END:VEVENT
BEGIN:VTIMEZONE
TZID:Europe/Paris
END:VTIMEZONE
END:VCALENDAR
