BEGIN:VCALENDAR
PRODID:-//eluceo/ical//2.0/EN
VERSION:2.0
CALSCALE:GREGORIAN
BEGIN:VEVENT
UID:4b937522a47e4eb1c26f4c4f14370f10
DTSTAMP:20260422T012127Z
SUMMARY:J1 CEBA 1 - BCO 1
DESCRIPTION:Équipe 1 · Saison 2025-2026\n\nJournée 1\nCEBA 1 - BCO 1\nD
 ivision - Pré-Nationale\n\nPour la saison 2025-2026\, notre première éq
 uipe jouera en Division Pré-Nationale Poule D de la Ligue Grand-Est.\n
URL:https://ceba-strasbourg.org/fr-FR/interclubs/equipes/1/2025-2026
DTSTART;TZID=Europe/Paris:20251019T100000
DTEND;TZID=Europe/Paris:20251019T120000
LOCATION:Non défini
ORGANIZER;CN=Benjamin Seiler:mailto:team1@ceba-strasbourg.org
END:VEVENT
BEGIN:VEVENT
UID:fd459519d837d5d9f2f1a6b17d7bbd56
DTSTAMP:20260422T012127Z
SUMMARY:J2 BCS 2 - CEBA 1
DESCRIPTION:Équipe 1 · Saison 2025-2026\n\nJournée 2\nBCS 2 - CEBA 1\nD
 ivision - Pré-Nationale\n\nPour la saison 2025-2026\, notre première éq
 uipe jouera en Division Pré-Nationale Poule D de la Ligue Grand-Est.\n
URL:https://ceba-strasbourg.org/fr-FR/interclubs/equipes/1/2025-2026
DTSTART;TZID=Europe/Paris:20251019T140000
DTEND;TZID=Europe/Paris:20251019T160000
LOCATION:Non défini
ORGANIZER;CN=Benjamin Seiler:mailto:team1@ceba-strasbourg.org
END:VEVENT
BEGIN:VEVENT
UID:d5c40702f5eade85f8a5565748167749
DTSTAMP:20260422T012127Z
SUMMARY:J3 ASLBK 2 - CEBA 1
DESCRIPTION:Équipe 1 · Saison 2025-2026\n\nJournée 3\nASLBK 2 - CEBA 1\
 nDivision - Pré-Nationale\n\nPour la saison 2025-2026\, notre première 
 équipe jouera en Division Pré-Nationale Poule D de la Ligue Grand-Est.\n
URL:https://ceba-strasbourg.org/fr-FR/interclubs/equipes/1/2025-2026
DTSTART;TZID=Europe/Paris:20251123T100000
DTEND;TZID=Europe/Paris:20251123T120000
LOCATION:Non défini
ORGANIZER;CN=Benjamin Seiler:mailto:team1@ceba-strasbourg.org
END:VEVENT
BEGIN:VEVENT
UID:1e15106143904da8708f4c0ea74ae2d1
DTSTAMP:20260422T012127Z
SUMMARY:J4 CEBA 1 - BCFG 1
DESCRIPTION:Équipe 1 · Saison 2025-2026\n\nJournée 4\nCEBA 1 - BCFG 1\n
 Division - Pré-Nationale\n\nPour la saison 2025-2026\, notre première é
 quipe jouera en Division Pré-Nationale Poule D de la Ligue Grand-Est.\n
URL:https://ceba-strasbourg.org/fr-FR/interclubs/equipes/1/2025-2026
DTSTART;TZID=Europe/Paris:20251123T140000
DTEND;TZID=Europe/Paris:20251123T160000
LOCATION:Non défini
ORGANIZER;CN=Benjamin Seiler:mailto:team1@ceba-strasbourg.org
END:VEVENT
BEGIN:VEVENT
UID:54406c721cc697e5255bef8be34acea9
DTSTAMP:20260422T012127Z
SUMMARY:J5 CEBA 1 - RSM 3
DESCRIPTION:Équipe 1 · Saison 2025-2026\n\nJournée 5\nCEBA 1 - RSM 3\nD
 ivision - Pré-Nationale\n\nPour la saison 2025-2026\, notre première éq
 uipe jouera en Division Pré-Nationale Poule D de la Ligue Grand-Est.\n
URL:https://ceba-strasbourg.org/fr-FR/interclubs/equipes/1/2025-2026
DTSTART;TZID=Europe/Paris:20260118T100000
DTEND;TZID=Europe/Paris:20260118T120000
LOCATION:Non défini
ORGANIZER;CN=Benjamin Seiler:mailto:team1@ceba-strasbourg.org
END:VEVENT
BEGIN:VEVENT
UID:200fb0334b232e82855a423797dda3e4
DTSTAMP:20260422T012127Z
SUMMARY:J6 BCO 1 - CEBA 1
DESCRIPTION:Équipe 1 · Saison 2025-2026\n\nJournée 6\nBCO 1 - CEBA 1\nD
 ivision - Pré-Nationale\n\nPour la saison 2025-2026\, notre première éq
 uipe jouera en Division Pré-Nationale Poule D de la Ligue Grand-Est.\n
URL:https://ceba-strasbourg.org/fr-FR/interclubs/equipes/1/2025-2026
DTSTART;TZID=Europe/Paris:20260118T140000
DTEND;TZID=Europe/Paris:20260118T160000
LOCATION:Non défini
ORGANIZER;CN=Benjamin Seiler:mailto:team1@ceba-strasbourg.org
END:VEVENT
BEGIN:VEVENT
UID:59894005cf577486a6de796a9c55ae8c
DTSTAMP:20260422T012127Z
SUMMARY:J7 CEBA 1 - BCS 2
DESCRIPTION:Équipe 1 · Saison 2025-2026\n\nJournée 7\nCEBA 1 - BCS 2\nD
 ivision - Pré-Nationale\n\nPour la saison 2025-2026\, notre première éq
 uipe jouera en Division Pré-Nationale Poule D de la Ligue Grand-Est.\n
URL:https://ceba-strasbourg.org/fr-FR/interclubs/equipes/1/2025-2026
DTSTART;TZID=Europe/Paris:20260315T100000
DTEND;TZID=Europe/Paris:20260315T120000
LOCATION:Non défini
ORGANIZER;CN=Benjamin Seiler:mailto:team1@ceba-strasbourg.org
END:VEVENT
BEGIN:VEVENT
UID:15e86521feab7e218f66e9078ce2f244
DTSTAMP:20260422T012127Z
SUMMARY:J8 CEBA 1 - ASLBK 2
DESCRIPTION:Équipe 1 · Saison 2025-2026\n\nJournée 8\nCEBA 1 - ASLBK 2\
 nDivision - Pré-Nationale\n\nPour la saison 2025-2026\, notre première 
 équipe jouera en Division Pré-Nationale Poule D de la Ligue Grand-Est.\n
URL:https://ceba-strasbourg.org/fr-FR/interclubs/equipes/1/2025-2026
DTSTART;TZID=Europe/Paris:20260315T140000
DTEND;TZID=Europe/Paris:20260315T160000
LOCATION:Non défini
ORGANIZER;CN=Benjamin Seiler:mailto:team1@ceba-strasbourg.org
END:VEVENT
BEGIN:VEVENT
UID:6239a284ab1f256906ff81f5c2852071
DTSTAMP:20260422T012127Z
SUMMARY:J9 BCFG 1 - CEBA 1
DESCRIPTION:Équipe 1 · Saison 2025-2026\n\nJournée 9\nBCFG 1 - CEBA 1\n
 Division - Pré-Nationale\n\nPour la saison 2025-2026\, notre première é
 quipe jouera en Division Pré-Nationale Poule D de la Ligue Grand-Est.\n
URL:https://ceba-strasbourg.org/fr-FR/interclubs/equipes/1/2025-2026
DTSTART;TZID=Europe/Paris:20260412T100000
DTEND;TZID=Europe/Paris:20260412T120000
LOCATION:Non défini
ORGANIZER;CN=Benjamin Seiler:mailto:team1@ceba-strasbourg.org
END:VEVENT
BEGIN:VEVENT
UID:499c493c087eca3f4bc3ac1c5dd8c281
DTSTAMP:20260422T012127Z
SUMMARY:J10 RSM 3 - CEBA 1
DESCRIPTION:Équipe 1 · Saison 2025-2026\n\nJournée 10\nRSM 3 - CEBA 1\n
 Division - Pré-Nationale\n\nPour la saison 2025-2026\, notre première é
 quipe jouera en Division Pré-Nationale Poule D de la Ligue Grand-Est.\n
URL:https://ceba-strasbourg.org/fr-FR/interclubs/equipes/1/2025-2026
DTSTART;TZID=Europe/Paris:20260412T140000
DTEND;TZID=Europe/Paris:20260412T160000
LOCATION:Non défini
ORGANIZER;CN=Benjamin Seiler:mailto:team1@ceba-strasbourg.org
END:VEVENT
BEGIN:VTIMEZONE
TZID:Europe/Paris
END:VTIMEZONE
END:VCALENDAR
