BEGIN:VCALENDAR
PRODID:-//eluceo/ical//2.0/EN
VERSION:2.0
CALSCALE:GREGORIAN
BEGIN:VEVENT
UID:0cc570d630d0ebe046af8f96c37518f2
DTSTAMP:20260420T141006Z
SUMMARY:D2 CEBA 3 - CCSSL 5
DESCRIPTION:Team 3 · Season 2024-2025\n\nDay 2\nCEBA 3 - CCSSL 5\nDivisi
 on - Départementale 4\n\n\nPour la saison 2024-2025\, notre troisième é
 quipe jouera en Division Départementale 4 Poule D du Bas-Rhin.\nL'équipe
  3 termine la saison en 6e position sur 15 !\n
URL:https://ceba-strasbourg.org/en/interclubs/equipes/3/2024-2025
DTSTART;TZID=Europe/Paris:20241018T203000
DTEND;TZID=Europe/Paris:20241018T223000
LOCATION:Centre sportif des Droits de l'Homme
GEO:48.599366;7.777333
X-APPLE-STRUCTURED-LOCATION;VALUE=URI;X-ADDRESS=Centre sportif des Droits d
 e l'Homme;X-APPLE-RADIUS=49;X-TITLE=Centre sportif des Droits de l'Homme:g
 eo:48.599366,7.777333
ORGANIZER;CN=Thomas Kapp:mailto:team3@ceba-strasbourg.org
END:VEVENT
BEGIN:VEVENT
UID:80b2b808a97011f43532074a7b4f5a57
DTSTAMP:20260420T141006Z
SUMMARY:D3 BCSLPS 4 - CEBA 3
DESCRIPTION:Team 3 · Season 2024-2025\n\nDay 3\nBCSLPS 4 - CEBA 3\nDivis
 ion - Départementale 4\n\n\nPour la saison 2024-2025\, notre troisième 
 équipe jouera en Division Départementale 4 Poule D du Bas-Rhin.\nL'équi
 pe 3 termine la saison en 6e position sur 15 !\n
URL:https://ceba-strasbourg.org/en/interclubs/equipes/3/2024-2025
DTSTART;TZID=Europe/Paris:20241107T201500
DTEND;TZID=Europe/Paris:20241107T221500
LOCATION:Gymnase Nelson Mandela\, 67300 SCHILTIGHEIM
ORGANIZER;CN=Thomas Kapp:mailto:team3@ceba-strasbourg.org
END:VEVENT
BEGIN:VEVENT
UID:9ec52024a3805c59f7440c84c043c133
DTSTAMP:20260420T141006Z
SUMMARY:D4 ASCS 5 - CEBA 3
DESCRIPTION:Team 3 · Season 2024-2025\n\nDay 4\nASCS 5 - CEBA 3\nDivisio
 n - Départementale 4\n\n\nPour la saison 2024-2025\, notre troisième éq
 uipe jouera en Division Départementale 4 Poule D du Bas-Rhin.\nL'équipe 
 3 termine la saison en 6e position sur 15 !\n
URL:https://ceba-strasbourg.org/en/interclubs/equipes/3/2024-2025
DTSTART;TZID=Europe/Paris:20241121T203000
DTEND;TZID=Europe/Paris:20241121T223000
LOCATION:Hall Wilson\, 67083 Strasbourg
ORGANIZER;CN=Thomas Kapp:mailto:team3@ceba-strasbourg.org
END:VEVENT
BEGIN:VEVENT
UID:da4ea6e90782c67549be2538e2d8dd64
DTSTAMP:20260420T141006Z
SUMMARY:D5 BCMS 7 - CEBA 3
DESCRIPTION:Team 3 · Season 2024-2025\n\nDay 5\nBCMS 7 - CEBA 3\nDivisio
 n - Départementale 4\n\n\nPour la saison 2024-2025\, notre troisième éq
 uipe jouera en Division Départementale 4 Poule D du Bas-Rhin.\nL'équipe 
 3 termine la saison en 6e position sur 15 !\n
URL:https://ceba-strasbourg.org/en/interclubs/equipes/3/2024-2025
DTSTART;TZID=Europe/Paris:20241206T203000
DTEND;TZID=Europe/Paris:20241206T223000
LOCATION:Salle Bon Pasteur\, 67000 Strasbourg
ORGANIZER;CN=Thomas Kapp:mailto:team3@ceba-strasbourg.org
END:VEVENT
BEGIN:VEVENT
UID:ca7de752e7da416bde9f7f02c13fc4a0
DTSTAMP:20260420T141006Z
SUMMARY:D6 HBC 2 - CEBA 3
DESCRIPTION:Team 3 · Season 2024-2025\n\nDay 6\nHBC 2 - CEBA 3\nDivision
  - Départementale 4\n\n\nPour la saison 2024-2025\, notre troisième équ
 ipe jouera en Division Départementale 4 Poule D du Bas-Rhin.\nL'équipe 3
  termine la saison en 6e position sur 15 !\n
URL:https://ceba-strasbourg.org/en/interclubs/equipes/3/2024-2025
DTSTART;TZID=Europe/Paris:20241220T203000
DTEND;TZID=Europe/Paris:20241220T223000
LOCATION:Karine C\, 67200 STRASBOURG
ORGANIZER;CN=Thomas Kapp:mailto:team3@ceba-strasbourg.org
END:VEVENT
BEGIN:VEVENT
UID:8132bafd568d39b99ec0d0f099c442f2
DTSTAMP:20260420T141006Z
SUMMARY:D7 CEBA 3 - ASLR 7
DESCRIPTION:Team 3 · Season 2024-2025\n\nDay 7\nCEBA 3 - ASLR 7\nDivisio
 n - Départementale 4\n\n\nPour la saison 2024-2025\, notre troisième éq
 uipe jouera en Division Départementale 4 Poule D du Bas-Rhin.\nL'équipe 
 3 termine la saison en 6e position sur 15 !\n
URL:https://ceba-strasbourg.org/en/interclubs/equipes/3/2024-2025
DTSTART;TZID=Europe/Paris:20250117T200000
DTEND;TZID=Europe/Paris:20250117T220000
LOCATION:Centre sportif des Droits de l'Homme
GEO:48.599366;7.777333
X-APPLE-STRUCTURED-LOCATION;VALUE=URI;X-ADDRESS=Centre sportif des Droits d
 e l'Homme;X-APPLE-RADIUS=49;X-TITLE=Centre sportif des Droits de l'Homme:g
 eo:48.599366,7.777333
ORGANIZER;CN=Thomas Kapp:mailto:team3@ceba-strasbourg.org
END:VEVENT
BEGIN:VEVENT
UID:165c94eb062ebde83bc25561739573eb
DTSTAMP:20260420T141006Z
SUMMARY:D9 CCSSL 5 - CEBA 3
DESCRIPTION:Team 3 · Season 2024-2025\n\nDay 9\nCCSSL 5 - CEBA 3\nDivisi
 on - Départementale 4\n\n\nPour la saison 2024-2025\, notre troisième é
 quipe jouera en Division Départementale 4 Poule D du Bas-Rhin.\nL'équipe
  3 termine la saison en 6e position sur 15 !\n
URL:https://ceba-strasbourg.org/en/interclubs/equipes/3/2024-2025
DTSTART;TZID=Europe/Paris:20250204T203000
DTEND;TZID=Europe/Paris:20250204T223000
LOCATION:Gymnase I'm Sand\,
ORGANIZER;CN=Thomas Kapp:mailto:team3@ceba-strasbourg.org
END:VEVENT
BEGIN:VEVENT
UID:e52d01e6a27fafffa2824732098e00d9
DTSTAMP:20260420T141006Z
SUMMARY:D10 CEBA 3 - BCSLPS 4
DESCRIPTION:Team 3 · Season 2024-2025\n\nDay 10\nCEBA 3 - BCSLPS 4\nDivi
 sion - Départementale 4\n\n\nPour la saison 2024-2025\, notre troisième 
 équipe jouera en Division Départementale 4 Poule D du Bas-Rhin.\nL'équi
 pe 3 termine la saison en 6e position sur 15 !\n
URL:https://ceba-strasbourg.org/en/interclubs/equipes/3/2024-2025
DTSTART;TZID=Europe/Paris:20250228T200000
DTEND;TZID=Europe/Paris:20250228T220000
LOCATION:Centre sportif des Droits de l'Homme
GEO:48.599366;7.777333
X-APPLE-STRUCTURED-LOCATION;VALUE=URI;X-ADDRESS=Centre sportif des Droits d
 e l'Homme;X-APPLE-RADIUS=49;X-TITLE=Centre sportif des Droits de l'Homme:g
 eo:48.599366,7.777333
ORGANIZER;CN=Thomas Kapp:mailto:team3@ceba-strasbourg.org
END:VEVENT
BEGIN:VEVENT
UID:f3d3459921ddb9fd9825fbaf62544578
DTSTAMP:20260420T141006Z
SUMMARY:D11 CEBA 3 - ASCS 5
DESCRIPTION:Team 3 · Season 2024-2025\n\nDay 11\nCEBA 3 - ASCS 5\nDivisi
 on - Départementale 4\n\n\nPour la saison 2024-2025\, notre troisième é
 quipe jouera en Division Départementale 4 Poule D du Bas-Rhin.\nL'équipe
  3 termine la saison en 6e position sur 15 !\n
URL:https://ceba-strasbourg.org/en/interclubs/equipes/3/2024-2025
DTSTART;TZID=Europe/Paris:20250314T200000
DTEND;TZID=Europe/Paris:20250314T220000
LOCATION:Centre sportif des Droits de l'Homme
GEO:48.599366;7.777333
X-APPLE-STRUCTURED-LOCATION;VALUE=URI;X-ADDRESS=Centre sportif des Droits d
 e l'Homme;X-APPLE-RADIUS=49;X-TITLE=Centre sportif des Droits de l'Homme:g
 eo:48.599366,7.777333
ORGANIZER;CN=Thomas Kapp:mailto:team3@ceba-strasbourg.org
END:VEVENT
BEGIN:VEVENT
UID:3f1a93eca45188a4c4d14be2f2f72d79
DTSTAMP:20260420T141006Z
SUMMARY:D12 CEBA 3 - BCMS 7
DESCRIPTION:Team 3 · Season 2024-2025\n\nDay 12\nCEBA 3 - BCMS 7\nDivisi
 on - Départementale 4\n\n\nPour la saison 2024-2025\, notre troisième é
 quipe jouera en Division Départementale 4 Poule D du Bas-Rhin.\nL'équipe
  3 termine la saison en 6e position sur 15 !\n
URL:https://ceba-strasbourg.org/en/interclubs/equipes/3/2024-2025
DTSTART;TZID=Europe/Paris:20250328T200000
DTEND;TZID=Europe/Paris:20250328T220000
LOCATION:Centre sportif des Droits de l'Homme
GEO:48.599366;7.777333
X-APPLE-STRUCTURED-LOCATION;VALUE=URI;X-ADDRESS=Centre sportif des Droits d
 e l'Homme;X-APPLE-RADIUS=49;X-TITLE=Centre sportif des Droits de l'Homme:g
 eo:48.599366,7.777333
ORGANIZER;CN=Thomas Kapp:mailto:team3@ceba-strasbourg.org
END:VEVENT
BEGIN:VEVENT
UID:fabf97b6214dddc1092405f93a59aaca
DTSTAMP:20260420T141006Z
SUMMARY:D13 CEBA 3 - HBC 2
DESCRIPTION:Team 3 · Season 2024-2025\n\nDay 13\nCEBA 3 - HBC 2\nDivisio
 n - Départementale 4\n\n\nPour la saison 2024-2025\, notre troisième éq
 uipe jouera en Division Départementale 4 Poule D du Bas-Rhin.\nL'équipe 
 3 termine la saison en 6e position sur 15 !\n
URL:https://ceba-strasbourg.org/en/interclubs/equipes/3/2024-2025
DTSTART;TZID=Europe/Paris:20250425T200000
DTEND;TZID=Europe/Paris:20250425T220000
LOCATION:Centre sportif des Droits de l'Homme
GEO:48.599366;7.777333
X-APPLE-STRUCTURED-LOCATION;VALUE=URI;X-ADDRESS=Centre sportif des Droits d
 e l'Homme;X-APPLE-RADIUS=49;X-TITLE=Centre sportif des Droits de l'Homme:g
 eo:48.599366,7.777333
ORGANIZER;CN=Thomas Kapp:mailto:team3@ceba-strasbourg.org
END:VEVENT
BEGIN:VEVENT
UID:ff9144d5d73578399c0c808a3fecf86a
DTSTAMP:20260420T141006Z
SUMMARY:D14 ASLR 7 - CEBA 3
DESCRIPTION:Team 3 · Season 2024-2025\n\nDay 14\nASLR 7 - CEBA 3\nDivisi
 on - Départementale 4\n\n\nPour la saison 2024-2025\, notre troisième é
 quipe jouera en Division Départementale 4 Poule D du Bas-Rhin.\nL'équipe
  3 termine la saison en 6e position sur 15 !\n
URL:https://ceba-strasbourg.org/en/interclubs/equipes/3/2024-2025
DTSTART;TZID=Europe/Paris:20250509T203000
DTEND;TZID=Europe/Paris:20250509T223000
LOCATION:Salle Permanente - Complexe Sportif Robertsau\, 67000 STRASBOURG
ORGANIZER;CN=Thomas Kapp:mailto:team3@ceba-strasbourg.org
END:VEVENT
BEGIN:VTIMEZONE
TZID:Europe/Paris
END:VTIMEZONE
END:VCALENDAR
