BEGIN:VCALENDAR
PRODID:-//eluceo/ical//2.0/EN
VERSION:2.0
CALSCALE:GREGORIAN
BEGIN:VEVENT
UID:ab6bea4d4a71c98b01a11fbc4f150792
DTSTAMP:20260420T164304Z
SUMMARY:D2 CEBA 4 - ASPTT 9
DESCRIPTION:Team 4 · Season 2023-2024\n\nDay 2\nCEBA 4 - ASPTT 9\nDivisi
 on - D4\n\n\nPour la saison 2023-2024\, notre quatrième équipe jouera en
  Division Départementale 4 Poule C du Bas-Rhin.\nL'équipe 4 termine la s
 aison en 5e position sur 7 !\n
URL:https://ceba-strasbourg.org/en/interclubs/equipes/4/2023-2024
DTSTART;TZID=Europe/Paris:20231110T200000
DTEND;TZID=Europe/Paris:20231110T220000
LOCATION:Centre sportif des Droits de l'Homme
GEO:48.599366;7.777333
X-APPLE-STRUCTURED-LOCATION;VALUE=URI;X-ADDRESS=Centre sportif des Droits d
 e l'Homme;X-APPLE-RADIUS=49;X-TITLE=Centre sportif des Droits de l'Homme:g
 eo:48.599366,7.777333
ORGANIZER;CN=Thomas Kapp:mailto:team4@ceba-strasbourg.org
END:VEVENT
BEGIN:VEVENT
UID:f484c0f6311211c528e536d8a84607af
DTSTAMP:20260420T164304Z
SUMMARY:D3 ASCS 5 - CEBA 4
DESCRIPTION:Team 4 · Season 2023-2024\n\nDay 3\nASCS 5 - CEBA 4\nDivisio
 n - D4\n\n\nPour la saison 2023-2024\, notre quatrième équipe jouera en 
 Division Départementale 4 Poule C du Bas-Rhin.\nL'équipe 4 termine la sa
 ison en 5e position sur 7 !\n
URL:https://ceba-strasbourg.org/en/interclubs/equipes/4/2023-2024
DTSTART;TZID=Europe/Paris:20231123T203000
DTEND;TZID=Europe/Paris:20231123T223000
LOCATION:À définir
ORGANIZER;CN=Thomas Kapp:mailto:team4@ceba-strasbourg.org
END:VEVENT
BEGIN:VEVENT
UID:1163421a585d5ab387729aa32c411472
DTSTAMP:20260420T164304Z
SUMMARY:D4 ASLR 6 - CEBA 4
DESCRIPTION:Team 4 · Season 2023-2024\n\nDay 4\nASLR 6 - CEBA 4\nDivisio
 n - D4\n\n\nPour la saison 2023-2024\, notre quatrième équipe jouera en 
 Division Départementale 4 Poule C du Bas-Rhin.\nL'équipe 4 termine la sa
 ison en 5e position sur 7 !\n
URL:https://ceba-strasbourg.org/en/interclubs/equipes/4/2023-2024
DTSTART;TZID=Europe/Paris:20231208T203000
DTEND;TZID=Europe/Paris:20231208T223000
LOCATION:À définir
ORGANIZER;CN=Thomas Kapp:mailto:team4@ceba-strasbourg.org
END:VEVENT
BEGIN:VEVENT
UID:5d02c797167cd7072336d2d724ca7417
DTSTAMP:20260420T164304Z
SUMMARY:D5 CEBA 4 - HBC 2
DESCRIPTION:Team 4 · Season 2023-2024\n\nDay 5\nCEBA 4 - HBC 2\nDivision
  - D4\n\n\nPour la saison 2023-2024\, notre quatrième équipe jouera en D
 ivision Départementale 4 Poule C du Bas-Rhin.\nL'équipe 4 termine la sai
 son en 5e position sur 7 !\n
URL:https://ceba-strasbourg.org/en/interclubs/equipes/4/2023-2024
DTSTART;TZID=Europe/Paris:20231215T200000
DTEND;TZID=Europe/Paris:20231215T220000
LOCATION:Centre sportif des Droits de l'Homme
GEO:48.599366;7.777333
X-APPLE-STRUCTURED-LOCATION;VALUE=URI;X-ADDRESS=Centre sportif des Droits d
 e l'Homme;X-APPLE-RADIUS=49;X-TITLE=Centre sportif des Droits de l'Homme:g
 eo:48.599366,7.777333
ORGANIZER;CN=Thomas Kapp:mailto:team4@ceba-strasbourg.org
END:VEVENT
BEGIN:VEVENT
UID:fc0f46fd8378b46913e85c2ed5ed62fa
DTSTAMP:20260420T164304Z
SUMMARY:D6 CEBA 4 - BCN 2
DESCRIPTION:Team 4 · Season 2023-2024\n\nDay 6\nCEBA 4 - BCN 2\nDivision
  - D4\n\n\nPour la saison 2023-2024\, notre quatrième équipe jouera en D
 ivision Départementale 4 Poule C du Bas-Rhin.\nL'équipe 4 termine la sai
 son en 5e position sur 7 !\n
URL:https://ceba-strasbourg.org/en/interclubs/equipes/4/2023-2024
DTSTART;TZID=Europe/Paris:20240112T200000
DTEND;TZID=Europe/Paris:20240112T220000
LOCATION:Centre sportif des Droits de l'Homme
GEO:48.599366;7.777333
X-APPLE-STRUCTURED-LOCATION;VALUE=URI;X-ADDRESS=Centre sportif des Droits d
 e l'Homme;X-APPLE-RADIUS=49;X-TITLE=Centre sportif des Droits de l'Homme:g
 eo:48.599366,7.777333
ORGANIZER;CN=Thomas Kapp:mailto:team4@ceba-strasbourg.org
END:VEVENT
BEGIN:VEVENT
UID:f8ad28e4ea79c608a5892e132b38b6fa
DTSTAMP:20260420T164304Z
SUMMARY:D7 BCSLPS 2 - CEBA 4
DESCRIPTION:Team 4 · Season 2023-2024\n\nDay 7\nBCSLPS 2 - CEBA 4\nDivis
 ion - D4\n\n\nPour la saison 2023-2024\, notre quatrième équipe jouera e
 n Division Départementale 4 Poule C du Bas-Rhin.\nL'équipe 4 termine la 
 saison en 5e position sur 7 !\n
URL:https://ceba-strasbourg.org/en/interclubs/equipes/4/2023-2024
DTSTART;TZID=Europe/Paris:20240123T204500
DTEND;TZID=Europe/Paris:20240123T224500
LOCATION:À définir
ORGANIZER;CN=Thomas Kapp:mailto:team4@ceba-strasbourg.org
END:VEVENT
BEGIN:VEVENT
UID:18987cf9994e87f7f4d838319e275bb4
DTSTAMP:20260420T164304Z
SUMMARY:D9 ASPTT 9 - CEBA 4
DESCRIPTION:Team 4 · Season 2023-2024\n\nDay 9\nASPTT 9 - CEBA 4\nDivisi
 on - D4\n\n\nPour la saison 2023-2024\, notre quatrième équipe jouera en
  Division Départementale 4 Poule C du Bas-Rhin.\nL'équipe 4 termine la s
 aison en 5e position sur 7 !\n
URL:https://ceba-strasbourg.org/en/interclubs/equipes/4/2023-2024
DTSTART;TZID=Europe/Paris:20240223T203000
DTEND;TZID=Europe/Paris:20240223T223000
LOCATION:À définir
ORGANIZER;CN=Thomas Kapp:mailto:team4@ceba-strasbourg.org
END:VEVENT
BEGIN:VEVENT
UID:2fddc8a87d9f406eac33b7a059e8c82a
DTSTAMP:20260420T164304Z
SUMMARY:D10 CEBA 4 - ASCS 5
DESCRIPTION:Team 4 · Season 2023-2024\n\nDay 10\nCEBA 4 - ASCS 5\nDivisi
 on - D4\n\n\nPour la saison 2023-2024\, notre quatrième équipe jouera en
  Division Départementale 4 Poule C du Bas-Rhin.\nL'équipe 4 termine la s
 aison en 5e position sur 7 !\n
URL:https://ceba-strasbourg.org/en/interclubs/equipes/4/2023-2024
DTSTART;TZID=Europe/Paris:20240315T200000
DTEND;TZID=Europe/Paris:20240315T220000
LOCATION:Centre sportif des Droits de l'Homme
GEO:48.599366;7.777333
X-APPLE-STRUCTURED-LOCATION;VALUE=URI;X-ADDRESS=Centre sportif des Droits d
 e l'Homme;X-APPLE-RADIUS=49;X-TITLE=Centre sportif des Droits de l'Homme:g
 eo:48.599366,7.777333
ORGANIZER;CN=Thomas Kapp:mailto:team4@ceba-strasbourg.org
END:VEVENT
BEGIN:VEVENT
UID:4597a3c31bd35da3c245b8fe5b857b5f
DTSTAMP:20260420T164304Z
SUMMARY:D11 CEBA 4 - ASLR 6
DESCRIPTION:Team 4 · Season 2023-2024\n\nDay 11\nCEBA 4 - ASLR 6\nDivisi
 on - D4\n\n\nPour la saison 2023-2024\, notre quatrième équipe jouera en
  Division Départementale 4 Poule C du Bas-Rhin.\nL'équipe 4 termine la s
 aison en 5e position sur 7 !\n
URL:https://ceba-strasbourg.org/en/interclubs/equipes/4/2023-2024
DTSTART;TZID=Europe/Paris:20240405T200000
DTEND;TZID=Europe/Paris:20240405T220000
LOCATION:Centre sportif des Droits de l'Homme
GEO:48.599366;7.777333
X-APPLE-STRUCTURED-LOCATION;VALUE=URI;X-ADDRESS=Centre sportif des Droits d
 e l'Homme;X-APPLE-RADIUS=49;X-TITLE=Centre sportif des Droits de l'Homme:g
 eo:48.599366,7.777333
ORGANIZER;CN=Thomas Kapp:mailto:team4@ceba-strasbourg.org
END:VEVENT
BEGIN:VEVENT
UID:f5286027245f336e2df5cdee12f475d0
DTSTAMP:20260420T164304Z
SUMMARY:D12 HBC 2 - CEBA 4
DESCRIPTION:Team 4 · Season 2023-2024\n\nDay 12\nHBC 2 - CEBA 4\nDivisio
 n - D4\n\n\nPour la saison 2023-2024\, notre quatrième équipe jouera en 
 Division Départementale 4 Poule C du Bas-Rhin.\nL'équipe 4 termine la sa
 ison en 5e position sur 7 !\n
URL:https://ceba-strasbourg.org/en/interclubs/equipes/4/2023-2024
DTSTART;TZID=Europe/Paris:20240412T203000
DTEND;TZID=Europe/Paris:20240412T223000
LOCATION:À définir
ORGANIZER;CN=Thomas Kapp:mailto:team4@ceba-strasbourg.org
END:VEVENT
BEGIN:VEVENT
UID:10016822d6e74e38bb3dad3de32ea57c
DTSTAMP:20260420T164304Z
SUMMARY:D13 BCN 2 - CEBA 4
DESCRIPTION:Team 4 · Season 2023-2024\n\nDay 13\nBCN 2 - CEBA 4\nDivisio
 n - D4\n\n\nPour la saison 2023-2024\, notre quatrième équipe jouera en 
 Division Départementale 4 Poule C du Bas-Rhin.\nL'équipe 4 termine la sa
 ison en 5e position sur 7 !\n
URL:https://ceba-strasbourg.org/en/interclubs/equipes/4/2023-2024
DTSTART;TZID=Europe/Paris:20240514T200000
DTEND;TZID=Europe/Paris:20240514T220000
LOCATION:À définir
ORGANIZER;CN=Thomas Kapp:mailto:team4@ceba-strasbourg.org
END:VEVENT
BEGIN:VEVENT
UID:0760527d2f31c6bada4df9cf8616e5fd
DTSTAMP:20260420T164304Z
SUMMARY:D14 CEBA 4 - BCSLPS 2
DESCRIPTION:Team 4 · Season 2023-2024\n\nDay 14\nCEBA 4 - BCSLPS 2\nDivi
 sion - D4\n\n\nPour la saison 2023-2024\, notre quatrième équipe jouera 
 en Division Départementale 4 Poule C du Bas-Rhin.\nL'équipe 4 termine la
  saison en 5e position sur 7 !\n
URL:https://ceba-strasbourg.org/en/interclubs/equipes/4/2023-2024
DTSTART;TZID=Europe/Paris:20240524T200000
DTEND;TZID=Europe/Paris:20240524T220000
LOCATION:Centre sportif des Droits de l'Homme
GEO:48.599366;7.777333
X-APPLE-STRUCTURED-LOCATION;VALUE=URI;X-ADDRESS=Centre sportif des Droits d
 e l'Homme;X-APPLE-RADIUS=49;X-TITLE=Centre sportif des Droits de l'Homme:g
 eo:48.599366,7.777333
ORGANIZER;CN=Thomas Kapp:mailto:team4@ceba-strasbourg.org
END:VEVENT
BEGIN:VTIMEZONE
TZID:Europe/Paris
END:VTIMEZONE
END:VCALENDAR
