BEGIN:VCALENDAR
PRODID:-//eluceo/ical//2.0/EN
VERSION:2.0
CALSCALE:GREGORIAN
BEGIN:VEVENT
UID:253fbe1bfe859d1971723600f89de5ee
DTSTAMP:20260420T124941Z
SUMMARY:T2 CEBA 3 - CCSSL 5
DESCRIPTION:Mannschaft 3 · Saison 2024-2025\n\nTag 2\nCEBA 3 - CCSSL 5\n
 Abteilung - Départementale 4\n\n\nPour la saison 2024-2025\, notre troisi
 ème équipe jouera en Division Départementale 4 Poule D du Bas-Rhin.\nL'
 équipe 3 termine la saison en 6e position sur 15 !\n
URL:https://ceba-strasbourg.org/de/interclubs/equipes/3/2024-2025
DTSTART;TZID=Europe/Paris:20241018T203000
DTEND;TZID=Europe/Paris:20241018T223000
LOCATION:Centre sportif des Droits de l'Homme
GEO:48.599366;7.777333
X-APPLE-STRUCTURED-LOCATION;VALUE=URI;X-ADDRESS=Centre sportif des Droits d
 e l'Homme;X-APPLE-RADIUS=49;X-TITLE=Centre sportif des Droits de l'Homme:g
 eo:48.599366,7.777333
ORGANIZER;CN=Thomas Kapp:mailto:team3@ceba-strasbourg.org
END:VEVENT
BEGIN:VEVENT
UID:48e4106dedcfd97b6b6a246c569de604
DTSTAMP:20260420T124941Z
SUMMARY:T3 BCSLPS 4 - CEBA 3
DESCRIPTION:Mannschaft 3 · Saison 2024-2025\n\nTag 3\nBCSLPS 4 - CEBA 3\
 nAbteilung - Départementale 4\n\n\nPour la saison 2024-2025\, notre trois
 ième équipe jouera en Division Départementale 4 Poule D du Bas-Rhin.\nL
 'équipe 3 termine la saison en 6e position sur 15 !\n
URL:https://ceba-strasbourg.org/de/interclubs/equipes/3/2024-2025
DTSTART;TZID=Europe/Paris:20241107T201500
DTEND;TZID=Europe/Paris:20241107T221500
LOCATION:Gymnase Nelson Mandela\, 67300 SCHILTIGHEIM
ORGANIZER;CN=Thomas Kapp:mailto:team3@ceba-strasbourg.org
END:VEVENT
BEGIN:VEVENT
UID:4d19404d49f3958993205c46a89d59c4
DTSTAMP:20260420T124941Z
SUMMARY:T4 ASCS 5 - CEBA 3
DESCRIPTION:Mannschaft 3 · Saison 2024-2025\n\nTag 4\nASCS 5 - CEBA 3\nA
 bteilung - Départementale 4\n\n\nPour la saison 2024-2025\, notre troisi
 ème équipe jouera en Division Départementale 4 Poule D du Bas-Rhin.\nL'
 équipe 3 termine la saison en 6e position sur 15 !\n
URL:https://ceba-strasbourg.org/de/interclubs/equipes/3/2024-2025
DTSTART;TZID=Europe/Paris:20241121T203000
DTEND;TZID=Europe/Paris:20241121T223000
LOCATION:Hall Wilson\, 67083 Strasbourg
ORGANIZER;CN=Thomas Kapp:mailto:team3@ceba-strasbourg.org
END:VEVENT
BEGIN:VEVENT
UID:68f563bfcff085ae71f9a074ca9d67ed
DTSTAMP:20260420T124941Z
SUMMARY:T5 BCMS 7 - CEBA 3
DESCRIPTION:Mannschaft 3 · Saison 2024-2025\n\nTag 5\nBCMS 7 - CEBA 3\nA
 bteilung - Départementale 4\n\n\nPour la saison 2024-2025\, notre troisi
 ème équipe jouera en Division Départementale 4 Poule D du Bas-Rhin.\nL'
 équipe 3 termine la saison en 6e position sur 15 !\n
URL:https://ceba-strasbourg.org/de/interclubs/equipes/3/2024-2025
DTSTART;TZID=Europe/Paris:20241206T203000
DTEND;TZID=Europe/Paris:20241206T223000
LOCATION:Salle Bon Pasteur\, 67000 Strasbourg
ORGANIZER;CN=Thomas Kapp:mailto:team3@ceba-strasbourg.org
END:VEVENT
BEGIN:VEVENT
UID:64711c83b8ef192175f8488cdb55a362
DTSTAMP:20260420T124941Z
SUMMARY:T6 HBC 2 - CEBA 3
DESCRIPTION:Mannschaft 3 · Saison 2024-2025\n\nTag 6\nHBC 2 - CEBA 3\nAb
 teilung - Départementale 4\n\n\nPour la saison 2024-2025\, notre troisiè
 me équipe jouera en Division Départementale 4 Poule D du Bas-Rhin.\nL'é
 quipe 3 termine la saison en 6e position sur 15 !\n
URL:https://ceba-strasbourg.org/de/interclubs/equipes/3/2024-2025
DTSTART;TZID=Europe/Paris:20241220T203000
DTEND;TZID=Europe/Paris:20241220T223000
LOCATION:Karine C\, 67200 STRASBOURG
ORGANIZER;CN=Thomas Kapp:mailto:team3@ceba-strasbourg.org
END:VEVENT
BEGIN:VEVENT
UID:e28a9c7f8c4c5d07c19b1a8d21a7f02c
DTSTAMP:20260420T124941Z
SUMMARY:T7 CEBA 3 - ASLR 7
DESCRIPTION:Mannschaft 3 · Saison 2024-2025\n\nTag 7\nCEBA 3 - ASLR 7\nA
 bteilung - Départementale 4\n\n\nPour la saison 2024-2025\, notre troisi
 ème équipe jouera en Division Départementale 4 Poule D du Bas-Rhin.\nL'
 équipe 3 termine la saison en 6e position sur 15 !\n
URL:https://ceba-strasbourg.org/de/interclubs/equipes/3/2024-2025
DTSTART;TZID=Europe/Paris:20250117T200000
DTEND;TZID=Europe/Paris:20250117T220000
LOCATION:Centre sportif des Droits de l'Homme
GEO:48.599366;7.777333
X-APPLE-STRUCTURED-LOCATION;VALUE=URI;X-ADDRESS=Centre sportif des Droits d
 e l'Homme;X-APPLE-RADIUS=49;X-TITLE=Centre sportif des Droits de l'Homme:g
 eo:48.599366,7.777333
ORGANIZER;CN=Thomas Kapp:mailto:team3@ceba-strasbourg.org
END:VEVENT
BEGIN:VEVENT
UID:a8afa242b49900b079e88a565938d659
DTSTAMP:20260420T124941Z
SUMMARY:T9 CCSSL 5 - CEBA 3
DESCRIPTION:Mannschaft 3 · Saison 2024-2025\n\nTag 9\nCCSSL 5 - CEBA 3\n
 Abteilung - Départementale 4\n\n\nPour la saison 2024-2025\, notre troisi
 ème équipe jouera en Division Départementale 4 Poule D du Bas-Rhin.\nL'
 équipe 3 termine la saison en 6e position sur 15 !\n
URL:https://ceba-strasbourg.org/de/interclubs/equipes/3/2024-2025
DTSTART;TZID=Europe/Paris:20250204T203000
DTEND;TZID=Europe/Paris:20250204T223000
LOCATION:Gymnase I'm Sand\,
ORGANIZER;CN=Thomas Kapp:mailto:team3@ceba-strasbourg.org
END:VEVENT
BEGIN:VEVENT
UID:56d9c3768746835f676d2d8ed6b935de
DTSTAMP:20260420T124941Z
SUMMARY:T10 CEBA 3 - BCSLPS 4
DESCRIPTION:Mannschaft 3 · Saison 2024-2025\n\nTag 10\nCEBA 3 - BCSLPS 4
 \nAbteilung - Départementale 4\n\n\nPour la saison 2024-2025\, notre troi
 sième équipe jouera en Division Départementale 4 Poule D du Bas-Rhin.\n
 L'équipe 3 termine la saison en 6e position sur 15 !\n
URL:https://ceba-strasbourg.org/de/interclubs/equipes/3/2024-2025
DTSTART;TZID=Europe/Paris:20250228T200000
DTEND;TZID=Europe/Paris:20250228T220000
LOCATION:Centre sportif des Droits de l'Homme
GEO:48.599366;7.777333
X-APPLE-STRUCTURED-LOCATION;VALUE=URI;X-ADDRESS=Centre sportif des Droits d
 e l'Homme;X-APPLE-RADIUS=49;X-TITLE=Centre sportif des Droits de l'Homme:g
 eo:48.599366,7.777333
ORGANIZER;CN=Thomas Kapp:mailto:team3@ceba-strasbourg.org
END:VEVENT
BEGIN:VEVENT
UID:c88739e857d77d455bae504758e4a851
DTSTAMP:20260420T124941Z
SUMMARY:T11 CEBA 3 - ASCS 5
DESCRIPTION:Mannschaft 3 · Saison 2024-2025\n\nTag 11\nCEBA 3 - ASCS 5\n
 Abteilung - Départementale 4\n\n\nPour la saison 2024-2025\, notre troisi
 ème équipe jouera en Division Départementale 4 Poule D du Bas-Rhin.\nL'
 équipe 3 termine la saison en 6e position sur 15 !\n
URL:https://ceba-strasbourg.org/de/interclubs/equipes/3/2024-2025
DTSTART;TZID=Europe/Paris:20250314T200000
DTEND;TZID=Europe/Paris:20250314T220000
LOCATION:Centre sportif des Droits de l'Homme
GEO:48.599366;7.777333
X-APPLE-STRUCTURED-LOCATION;VALUE=URI;X-ADDRESS=Centre sportif des Droits d
 e l'Homme;X-APPLE-RADIUS=49;X-TITLE=Centre sportif des Droits de l'Homme:g
 eo:48.599366,7.777333
ORGANIZER;CN=Thomas Kapp:mailto:team3@ceba-strasbourg.org
END:VEVENT
BEGIN:VEVENT
UID:d8b608469c5acae96fed6ca94ba30ccf
DTSTAMP:20260420T124941Z
SUMMARY:T12 CEBA 3 - BCMS 7
DESCRIPTION:Mannschaft 3 · Saison 2024-2025\n\nTag 12\nCEBA 3 - BCMS 7\n
 Abteilung - Départementale 4\n\n\nPour la saison 2024-2025\, notre troisi
 ème équipe jouera en Division Départementale 4 Poule D du Bas-Rhin.\nL'
 équipe 3 termine la saison en 6e position sur 15 !\n
URL:https://ceba-strasbourg.org/de/interclubs/equipes/3/2024-2025
DTSTART;TZID=Europe/Paris:20250328T200000
DTEND;TZID=Europe/Paris:20250328T220000
LOCATION:Centre sportif des Droits de l'Homme
GEO:48.599366;7.777333
X-APPLE-STRUCTURED-LOCATION;VALUE=URI;X-ADDRESS=Centre sportif des Droits d
 e l'Homme;X-APPLE-RADIUS=49;X-TITLE=Centre sportif des Droits de l'Homme:g
 eo:48.599366,7.777333
ORGANIZER;CN=Thomas Kapp:mailto:team3@ceba-strasbourg.org
END:VEVENT
BEGIN:VEVENT
UID:7ebbbef67ee6cce48d40b039afad0cec
DTSTAMP:20260420T124941Z
SUMMARY:T13 CEBA 3 - HBC 2
DESCRIPTION:Mannschaft 3 · Saison 2024-2025\n\nTag 13\nCEBA 3 - HBC 2\nA
 bteilung - Départementale 4\n\n\nPour la saison 2024-2025\, notre troisi
 ème équipe jouera en Division Départementale 4 Poule D du Bas-Rhin.\nL'
 équipe 3 termine la saison en 6e position sur 15 !\n
URL:https://ceba-strasbourg.org/de/interclubs/equipes/3/2024-2025
DTSTART;TZID=Europe/Paris:20250425T200000
DTEND;TZID=Europe/Paris:20250425T220000
LOCATION:Centre sportif des Droits de l'Homme
GEO:48.599366;7.777333
X-APPLE-STRUCTURED-LOCATION;VALUE=URI;X-ADDRESS=Centre sportif des Droits d
 e l'Homme;X-APPLE-RADIUS=49;X-TITLE=Centre sportif des Droits de l'Homme:g
 eo:48.599366,7.777333
ORGANIZER;CN=Thomas Kapp:mailto:team3@ceba-strasbourg.org
END:VEVENT
BEGIN:VEVENT
UID:d22bb810e19a1b595057a25c4f22e221
DTSTAMP:20260420T124941Z
SUMMARY:T14 ASLR 7 - CEBA 3
DESCRIPTION:Mannschaft 3 · Saison 2024-2025\n\nTag 14\nASLR 7 - CEBA 3\n
 Abteilung - Départementale 4\n\n\nPour la saison 2024-2025\, notre troisi
 ème équipe jouera en Division Départementale 4 Poule D du Bas-Rhin.\nL'
 équipe 3 termine la saison en 6e position sur 15 !\n
URL:https://ceba-strasbourg.org/de/interclubs/equipes/3/2024-2025
DTSTART;TZID=Europe/Paris:20250509T203000
DTEND;TZID=Europe/Paris:20250509T223000
LOCATION:Salle Permanente - Complexe Sportif Robertsau\, 67000 STRASBOURG
ORGANIZER;CN=Thomas Kapp:mailto:team3@ceba-strasbourg.org
END:VEVENT
BEGIN:VTIMEZONE
TZID:Europe/Paris
END:VTIMEZONE
END:VCALENDAR
