BEGIN:VCALENDAR
PRODID:-//eluceo/ical//2.0/EN
VERSION:2.0
CALSCALE:GREGORIAN
BEGIN:VEVENT
UID:176c5384bc3726ef4a0a6af01cbc9fad
DTSTAMP:20260420T125105Z
SUMMARY:T1 SBC 1 - CEBA 2
DESCRIPTION:Mannschaft 2 · Saison 2024-2025\n\nTag 1\nSBC 1 - CEBA 2\nAb
 teilung - Régionale 2\n\nPour la saison 2024-2025\, notre deuxième équi
 pe jouera en Division Régionale 2 Poule E de la Ligue Grand-Est.L'équipe
  2 termine la saison en 5e position sur 6 !\n
URL:https://ceba-strasbourg.org/de/interclubs/equipes/2/2024-2025
DTSTART;TZID=Europe/Paris:20241006T100000
DTEND;TZID=Europe/Paris:20241006T120000
LOCATION:Gymnase Pierre de Coubertin\, 57200 Sarreguemines
ORGANIZER;CN=Jérémie Castel:mailto:team2@ceba-strasbourg.org
END:VEVENT
BEGIN:VEVENT
UID:4ca56d55ba3eddce0a94d21e32b814a8
DTSTAMP:20260420T125105Z
SUMMARY:T2 CEBA 2 - ASPTT 5
DESCRIPTION:Mannschaft 2 · Saison 2024-2025\n\nTag 2\nCEBA 2 - ASPTT 5\n
 Abteilung - Régionale 2\n\nPour la saison 2024-2025\, notre deuxième éq
 uipe jouera en Division Régionale 2 Poule E de la Ligue Grand-Est.L'équi
 pe 2 termine la saison en 5e position sur 6 !\n
URL:https://ceba-strasbourg.org/de/interclubs/equipes/2/2024-2025
DTSTART;TZID=Europe/Paris:20241006T140000
DTEND;TZID=Europe/Paris:20241006T160000
LOCATION:Gymnase Pierre de Coubertin\, 57200 Sarreguemines
ORGANIZER;CN=Jérémie Castel:mailto:team2@ceba-strasbourg.org
END:VEVENT
BEGIN:VEVENT
UID:008bbdd1d3ca1c3b49d04baaaf4ee8bd
DTSTAMP:20260420T125105Z
SUMMARY:T3 CEBA 2 - SCS 1
DESCRIPTION:Mannschaft 2 · Saison 2024-2025\n\nTag 3\nCEBA 2 - SCS 1\nAb
 teilung - Régionale 2\n\nPour la saison 2024-2025\, notre deuxième équi
 pe jouera en Division Régionale 2 Poule E de la Ligue Grand-Est.L'équipe
  2 termine la saison en 5e position sur 6 !\n
URL:https://ceba-strasbourg.org/de/interclubs/equipes/2/2024-2025
DTSTART;TZID=Europe/Paris:20241027T100000
DTEND;TZID=Europe/Paris:20241027T120000
LOCATION:Salle Polyvalente de Schwindratzheim\, 67270 Schwindratzheim
ORGANIZER;CN=Jérémie Castel:mailto:team2@ceba-strasbourg.org
END:VEVENT
BEGIN:VEVENT
UID:4effb52819895699ca8bc9a4b0210c17
DTSTAMP:20260420T125105Z
SUMMARY:T4 BCS 3 - CEBA 2
DESCRIPTION:Mannschaft 2 · Saison 2024-2025\n\nTag 4\nBCS 3 - CEBA 2\nAb
 teilung - Régionale 2\n\nPour la saison 2024-2025\, notre deuxième équi
 pe jouera en Division Régionale 2 Poule E de la Ligue Grand-Est.L'équipe
  2 termine la saison en 5e position sur 6 !\n
URL:https://ceba-strasbourg.org/de/interclubs/equipes/2/2024-2025
DTSTART;TZID=Europe/Paris:20241027T140000
DTEND;TZID=Europe/Paris:20241027T160000
LOCATION:Salle Polyvalente de Schwindratzheim\, 67270 Schwindratzheim
ORGANIZER;CN=Jérémie Castel:mailto:team2@ceba-strasbourg.org
END:VEVENT
BEGIN:VEVENT
UID:af5a2336f237b16c071119e53525b03b
DTSTAMP:20260420T125105Z
SUMMARY:T5 CEBA 2 - BCH 1
DESCRIPTION:Mannschaft 2 · Saison 2024-2025\n\nTag 5\nCEBA 2 - BCH 1\nAb
 teilung - Régionale 2\n\nPour la saison 2024-2025\, notre deuxième équi
 pe jouera en Division Régionale 2 Poule E de la Ligue Grand-Est.L'équipe
  2 termine la saison en 5e position sur 6 !\n
URL:https://ceba-strasbourg.org/de/interclubs/equipes/2/2024-2025
DTSTART;TZID=Europe/Paris:20241201T100000
DTEND;TZID=Europe/Paris:20241201T120000
LOCATION:Gymnase Herrade STRASBOURG\, 67200 STRASBOURG
ORGANIZER;CN=Jérémie Castel:mailto:team2@ceba-strasbourg.org
END:VEVENT
BEGIN:VEVENT
UID:9c468081028ad958441679636b2429e8
DTSTAMP:20260420T125105Z
SUMMARY:T6 CEBA 2 - SBC 1
DESCRIPTION:Mannschaft 2 · Saison 2024-2025\n\nTag 6\nCEBA 2 - SBC 1\nAb
 teilung - Régionale 2\n\nPour la saison 2024-2025\, notre deuxième équi
 pe jouera en Division Régionale 2 Poule E de la Ligue Grand-Est.L'équipe
  2 termine la saison en 5e position sur 6 !\n
URL:https://ceba-strasbourg.org/de/interclubs/equipes/2/2024-2025
DTSTART;TZID=Europe/Paris:20241201T140000
DTEND;TZID=Europe/Paris:20241201T160000
LOCATION:Gymnase Herrade STRASBOURG\, 67200 STRASBOURG
ORGANIZER;CN=Jérémie Castel:mailto:team2@ceba-strasbourg.org
END:VEVENT
BEGIN:VEVENT
UID:92982f618034d5f3cf004b6d789da852
DTSTAMP:20260420T125105Z
SUMMARY:T7 ASPTT 5 - CEBA 2
DESCRIPTION:Mannschaft 2 · Saison 2024-2025\n\nTag 7\nASPTT 5 - CEBA 2\n
 Abteilung - Régionale 2\n\nPour la saison 2024-2025\, notre deuxième éq
 uipe jouera en Division Régionale 2 Poule E de la Ligue Grand-Est.L'équi
 pe 2 termine la saison en 5e position sur 6 !\n
URL:https://ceba-strasbourg.org/de/interclubs/equipes/2/2024-2025
DTSTART;TZID=Europe/Paris:20250209T100000
DTEND;TZID=Europe/Paris:20250209T120000
LOCATION:Espace Charlemagne\, 67600 Selestat
ORGANIZER;CN=Jérémie Castel:mailto:team2@ceba-strasbourg.org
END:VEVENT
BEGIN:VEVENT
UID:a40ac9ea60152852f3499d4bb759bafb
DTSTAMP:20260420T125105Z
SUMMARY:T8 SCS 1 - CEBA 2
DESCRIPTION:Mannschaft 2 · Saison 2024-2025\n\nTag 8\nSCS 1 - CEBA 2\nAb
 teilung - Régionale 2\n\nPour la saison 2024-2025\, notre deuxième équi
 pe jouera en Division Régionale 2 Poule E de la Ligue Grand-Est.L'équipe
  2 termine la saison en 5e position sur 6 !\n
URL:https://ceba-strasbourg.org/de/interclubs/equipes/2/2024-2025
DTSTART;TZID=Europe/Paris:20250209T140000
DTEND;TZID=Europe/Paris:20250209T160000
LOCATION:Espace Charlemagne\, 67600 Selestat
ORGANIZER;CN=Jérémie Castel:mailto:team2@ceba-strasbourg.org
END:VEVENT
BEGIN:VEVENT
UID:ca420c4c5963164f9c8b60b380f1dc02
DTSTAMP:20260420T125105Z
SUMMARY:T9 CEBA 2 - BCS 3
DESCRIPTION:Mannschaft 2 · Saison 2024-2025\n\nTag 9\nCEBA 2 - BCS 3\nAb
 teilung - Régionale 2\n\nPour la saison 2024-2025\, notre deuxième équi
 pe jouera en Division Régionale 2 Poule E de la Ligue Grand-Est.L'équipe
  2 termine la saison en 5e position sur 6 !\n
URL:https://ceba-strasbourg.org/de/interclubs/equipes/2/2024-2025
DTSTART;TZID=Europe/Paris:20250323T100000
DTEND;TZID=Europe/Paris:20250323T120000
LOCATION:Espace Charlemagne\, 67600 Selestat
ORGANIZER;CN=Jérémie Castel:mailto:team2@ceba-strasbourg.org
END:VEVENT
BEGIN:VEVENT
UID:8e76bc301b684f354a405138f131933b
DTSTAMP:20260420T125105Z
SUMMARY:T10 BCH 1 - CEBA 2
DESCRIPTION:Mannschaft 2 · Saison 2024-2025\n\nTag 10\nBCH 1 - CEBA 2\nA
 bteilung - Régionale 2\n\nPour la saison 2024-2025\, notre deuxième équ
 ipe jouera en Division Régionale 2 Poule E de la Ligue Grand-Est.L'équip
 e 2 termine la saison en 5e position sur 6 !\n
URL:https://ceba-strasbourg.org/de/interclubs/equipes/2/2024-2025
DTSTART;TZID=Europe/Paris:20250323T140000
DTEND;TZID=Europe/Paris:20250323T160000
LOCATION:Espace Charlemagne\, 67600 Selestat
ORGANIZER;CN=Jérémie Castel:mailto:team2@ceba-strasbourg.org
END:VEVENT
BEGIN:VTIMEZONE
TZID:Europe/Paris
END:VTIMEZONE
END:VCALENDAR
