BEGIN:VCALENDAR
PRODID:-//eluceo/ical//2.0/EN
VERSION:2.0
CALSCALE:GREGORIAN
BEGIN:VEVENT
UID:cc7ff6e67e6a6d6e5c801217e4827c82
DTSTAMP:20260420T111433Z
SUMMARY:T1 CEBA 1 - COBRA 2
DESCRIPTION:Mannschaft 1 · Saison 2024-2025\n\nTag 1\nCEBA 1 - COBRA 2\n
 Abteilung - Pré-Nationale\n\nPour la saison 2024-2025\, notre première 
 équipe jouera en Division Pré-Nationale Poule D de la Ligue Grand-Est.\n
 L'équipe 1 termine la saison en 5e position sur 14 !\n
URL:https://ceba-strasbourg.org/de/interclubs/equipes/1/2024-2025
DTSTART;TZID=Europe/Paris:20241006T100000
DTEND;TZID=Europe/Paris:20241006T120000
LOCATION:CSL - Quai Heydt - Ostwald\, 67540 ostwald
ORGANIZER;CN=Stephen Ellis:mailto:team1@ceba-strasbourg.org
END:VEVENT
BEGIN:VEVENT
UID:d3babd308c90321c6cc0e3cc128a7062
DTSTAMP:20260420T111433Z
SUMMARY:T2 ASLBK 2 - CEBA 1
DESCRIPTION:Mannschaft 1 · Saison 2024-2025\n\nTag 2\nASLBK 2 - CEBA 1\n
 Abteilung - Pré-Nationale\n\nPour la saison 2024-2025\, notre première 
 équipe jouera en Division Pré-Nationale Poule D de la Ligue Grand-Est.\n
 L'équipe 1 termine la saison en 5e position sur 14 !\n
URL:https://ceba-strasbourg.org/de/interclubs/equipes/1/2024-2025
DTSTART;TZID=Europe/Paris:20241006T140000
DTEND;TZID=Europe/Paris:20241006T160000
LOCATION:CSL - Quai Heydt - Ostwald\, 67540 ostwald
ORGANIZER;CN=Stephen Ellis:mailto:team1@ceba-strasbourg.org
END:VEVENT
BEGIN:VEVENT
UID:e8cbbd546e54e26885deeaa19a36e502
DTSTAMP:20260420T111433Z
SUMMARY:T3 CEBA 1 - V3F 2
DESCRIPTION:Mannschaft 1 · Saison 2024-2025\n\nTag 3\nCEBA 1 - V3F 2\nAb
 teilung - Pré-Nationale\n\nPour la saison 2024-2025\, notre première éq
 uipe jouera en Division Pré-Nationale Poule D de la Ligue Grand-Est.\nL'
 équipe 1 termine la saison en 5e position sur 14 !\n
URL:https://ceba-strasbourg.org/de/interclubs/equipes/1/2024-2025
DTSTART;TZID=Europe/Paris:20241027T100000
DTEND;TZID=Europe/Paris:20241027T120000
LOCATION:COLMAR\, Gymnase du Grillenbreit \, 68000 Colmar
ORGANIZER;CN=Stephen Ellis:mailto:team1@ceba-strasbourg.org
END:VEVENT
BEGIN:VEVENT
UID:ef508ecadb7d288167cf42b256a15846
DTSTAMP:20260420T111433Z
SUMMARY:T4 BCSDDV 1 - CEBA 1
DESCRIPTION:Mannschaft 1 · Saison 2024-2025\n\nTag 4\nBCSDDV 1 - CEBA 1\
 nAbteilung - Pré-Nationale\n\nPour la saison 2024-2025\, notre première 
 équipe jouera en Division Pré-Nationale Poule D de la Ligue Grand-Est.\n
 L'équipe 1 termine la saison en 5e position sur 14 !\n
URL:https://ceba-strasbourg.org/de/interclubs/equipes/1/2024-2025
DTSTART;TZID=Europe/Paris:20241027T140000
DTEND;TZID=Europe/Paris:20241027T160000
LOCATION:COLMAR\, Gymnase du Grillenbreit \, 68000 Colmar
ORGANIZER;CN=Stephen Ellis:mailto:team1@ceba-strasbourg.org
END:VEVENT
BEGIN:VEVENT
UID:4915ec841c975853163465eb6b1647e1
DTSTAMP:20260420T111433Z
SUMMARY:T5 BCO 2 - CEBA 1
DESCRIPTION:Mannschaft 1 · Saison 2024-2025\n\nTag 5\nBCO 2 - CEBA 1\nAb
 teilung - Pré-Nationale\n\nPour la saison 2024-2025\, notre première éq
 uipe jouera en Division Pré-Nationale Poule D de la Ligue Grand-Est.\nL'
 équipe 1 termine la saison en 5e position sur 14 !\n
URL:https://ceba-strasbourg.org/de/interclubs/equipes/1/2024-2025
DTSTART;TZID=Europe/Paris:20241201T100000
DTEND;TZID=Europe/Paris:20241201T120000
LOCATION:Allée Eugène Moser\, 68000 KEMBS
ORGANIZER;CN=Stephen Ellis:mailto:team1@ceba-strasbourg.org
END:VEVENT
BEGIN:VEVENT
UID:4d5c1c27f456f0ecf6ae14d1ae9e73bf
DTSTAMP:20260420T111433Z
SUMMARY:T6 COBRA 2 - CEBA 1
DESCRIPTION:Mannschaft 1 · Saison 2024-2025\n\nTag 6\nCOBRA 2 - CEBA 1\n
 Abteilung - Pré-Nationale\n\nPour la saison 2024-2025\, notre première 
 équipe jouera en Division Pré-Nationale Poule D de la Ligue Grand-Est.\n
 L'équipe 1 termine la saison en 5e position sur 14 !\n
URL:https://ceba-strasbourg.org/de/interclubs/equipes/1/2024-2025
DTSTART;TZID=Europe/Paris:20241201T140000
DTEND;TZID=Europe/Paris:20241201T160000
LOCATION:Allée Eugène Moser\, 68000 KEMBS
ORGANIZER;CN=Stephen Ellis:mailto:team1@ceba-strasbourg.org
END:VEVENT
BEGIN:VEVENT
UID:e308335e12af5c3255b206221ae5f783
DTSTAMP:20260420T111433Z
SUMMARY:T7 CEBA 1 - ASLBK 2
DESCRIPTION:Mannschaft 1 · Saison 2024-2025\n\nTag 7\nCEBA 1 - ASLBK 2\n
 Abteilung - Pré-Nationale\n\nPour la saison 2024-2025\, notre première 
 équipe jouera en Division Pré-Nationale Poule D de la Ligue Grand-Est.\n
 L'équipe 1 termine la saison en 5e position sur 14 !\n
URL:https://ceba-strasbourg.org/de/interclubs/equipes/1/2024-2025
DTSTART;TZID=Europe/Paris:20250209T100000
DTEND;TZID=Europe/Paris:20250209T120000
LOCATION:La COMETE Hésingue\, 68220 hesingue
ORGANIZER;CN=Stephen Ellis:mailto:team1@ceba-strasbourg.org
END:VEVENT
BEGIN:VEVENT
UID:d7ba2849825985f9d89c3b6afd28a042
DTSTAMP:20260420T111433Z
SUMMARY:T8 V3F 2 - CEBA 1
DESCRIPTION:Mannschaft 1 · Saison 2024-2025\n\nTag 8\nV3F 2 - CEBA 1\nAb
 teilung - Pré-Nationale\n\nPour la saison 2024-2025\, notre première éq
 uipe jouera en Division Pré-Nationale Poule D de la Ligue Grand-Est.\nL'
 équipe 1 termine la saison en 5e position sur 14 !\n
URL:https://ceba-strasbourg.org/de/interclubs/equipes/1/2024-2025
DTSTART;TZID=Europe/Paris:20250209T140000
DTEND;TZID=Europe/Paris:20250209T160000
LOCATION:La COMETE Hésingue\, 68220 hesingue
ORGANIZER;CN=Stephen Ellis:mailto:team1@ceba-strasbourg.org
END:VEVENT
BEGIN:VEVENT
UID:93b073eac5a2c81e66bab213606d6ac0
DTSTAMP:20260420T111433Z
SUMMARY:T9 CEBA 1 - BCSDDV 1
DESCRIPTION:Mannschaft 1 · Saison 2024-2025\n\nTag 9\nCEBA 1 - BCSDDV 1\
 nAbteilung - Pré-Nationale\n\nPour la saison 2024-2025\, notre première 
 équipe jouera en Division Pré-Nationale Poule D de la Ligue Grand-Est.\n
 L'équipe 1 termine la saison en 5e position sur 14 !\n
URL:https://ceba-strasbourg.org/de/interclubs/equipes/1/2024-2025
DTSTART;TZID=Europe/Paris:20250323T100000
DTEND;TZID=Europe/Paris:20250323T120000
LOCATION:Gymnase Herrade\, 67200 STRASBOURG
ORGANIZER;CN=Stephen Ellis:mailto:team1@ceba-strasbourg.org
END:VEVENT
BEGIN:VEVENT
UID:371524bbede04a9a128f80775db099c5
DTSTAMP:20260420T111433Z
SUMMARY:T10 CEBA 1 - BCO 2
DESCRIPTION:Mannschaft 1 · Saison 2024-2025\n\nTag 10\nCEBA 1 - BCO 2\nA
 bteilung - Pré-Nationale\n\nPour la saison 2024-2025\, notre première é
 quipe jouera en Division Pré-Nationale Poule D de la Ligue Grand-Est.\nL'
 équipe 1 termine la saison en 5e position sur 14 !\n
URL:https://ceba-strasbourg.org/de/interclubs/equipes/1/2024-2025
DTSTART;TZID=Europe/Paris:20250323T140000
DTEND;TZID=Europe/Paris:20250323T160000
LOCATION:Gymnase Herrade\, 67200 STRASBOURG
ORGANIZER;CN=Stephen Ellis:mailto:team1@ceba-strasbourg.org
END:VEVENT
BEGIN:VTIMEZONE
TZID:Europe/Paris
END:VTIMEZONE
END:VCALENDAR
