BEGIN:VCALENDAR
PRODID:-//eluceo/ical//2.0/EN
VERSION:2.0
CALSCALE:GREGORIAN
BEGIN:VEVENT
UID:99f2595b81b11011cc7a64b9369229d1
DTSTAMP:20260420T152851Z
SUMMARY:T2 CEBA 4 - ASPTT 9
DESCRIPTION:Mannschaft 4 · Saison 2023-2024\n\nTag 2\nCEBA 4 - ASPTT 9\n
 Abteilung - D4\n\n\nPour la saison 2023-2024\, notre quatrième équipe jo
 uera en Division Départementale 4 Poule C du Bas-Rhin.\nL'équipe 4 termi
 ne la saison en 5e position sur 7 !\n
URL:https://ceba-strasbourg.org/de/interclubs/equipes/4/2023-2024
DTSTART;TZID=Europe/Paris:20231110T200000
DTEND;TZID=Europe/Paris:20231110T220000
LOCATION:Centre sportif des Droits de l'Homme
GEO:48.599366;7.777333
X-APPLE-STRUCTURED-LOCATION;VALUE=URI;X-ADDRESS=Centre sportif des Droits d
 e l'Homme;X-APPLE-RADIUS=49;X-TITLE=Centre sportif des Droits de l'Homme:g
 eo:48.599366,7.777333
ORGANIZER;CN=Thomas Kapp:mailto:team4@ceba-strasbourg.org
END:VEVENT
BEGIN:VEVENT
UID:67ba968cae4217e8301b82df6cc4f7b2
DTSTAMP:20260420T152851Z
SUMMARY:T3 ASCS 5 - CEBA 4
DESCRIPTION:Mannschaft 4 · Saison 2023-2024\n\nTag 3\nASCS 5 - CEBA 4\nA
 bteilung - D4\n\n\nPour la saison 2023-2024\, notre quatrième équipe jou
 era en Division Départementale 4 Poule C du Bas-Rhin.\nL'équipe 4 termin
 e la saison en 5e position sur 7 !\n
URL:https://ceba-strasbourg.org/de/interclubs/equipes/4/2023-2024
DTSTART;TZID=Europe/Paris:20231123T203000
DTEND;TZID=Europe/Paris:20231123T223000
LOCATION:À définir
ORGANIZER;CN=Thomas Kapp:mailto:team4@ceba-strasbourg.org
END:VEVENT
BEGIN:VEVENT
UID:d7098a043d8600182c5b6a6825ca81b3
DTSTAMP:20260420T152851Z
SUMMARY:T4 ASLR 6 - CEBA 4
DESCRIPTION:Mannschaft 4 · Saison 2023-2024\n\nTag 4\nASLR 6 - CEBA 4\nA
 bteilung - D4\n\n\nPour la saison 2023-2024\, notre quatrième équipe jou
 era en Division Départementale 4 Poule C du Bas-Rhin.\nL'équipe 4 termin
 e la saison en 5e position sur 7 !\n
URL:https://ceba-strasbourg.org/de/interclubs/equipes/4/2023-2024
DTSTART;TZID=Europe/Paris:20231208T203000
DTEND;TZID=Europe/Paris:20231208T223000
LOCATION:À définir
ORGANIZER;CN=Thomas Kapp:mailto:team4@ceba-strasbourg.org
END:VEVENT
BEGIN:VEVENT
UID:46f088a4880633f21de734d58e312b02
DTSTAMP:20260420T152851Z
SUMMARY:T5 CEBA 4 - HBC 2
DESCRIPTION:Mannschaft 4 · Saison 2023-2024\n\nTag 5\nCEBA 4 - HBC 2\nAb
 teilung - D4\n\n\nPour la saison 2023-2024\, notre quatrième équipe joue
 ra en Division Départementale 4 Poule C du Bas-Rhin.\nL'équipe 4 termine
  la saison en 5e position sur 7 !\n
URL:https://ceba-strasbourg.org/de/interclubs/equipes/4/2023-2024
DTSTART;TZID=Europe/Paris:20231215T200000
DTEND;TZID=Europe/Paris:20231215T220000
LOCATION:Centre sportif des Droits de l'Homme
GEO:48.599366;7.777333
X-APPLE-STRUCTURED-LOCATION;VALUE=URI;X-ADDRESS=Centre sportif des Droits d
 e l'Homme;X-APPLE-RADIUS=49;X-TITLE=Centre sportif des Droits de l'Homme:g
 eo:48.599366,7.777333
ORGANIZER;CN=Thomas Kapp:mailto:team4@ceba-strasbourg.org
END:VEVENT
BEGIN:VEVENT
UID:515589a2e7231619a94e0f4cb4274f75
DTSTAMP:20260420T152851Z
SUMMARY:T6 CEBA 4 - BCN 2
DESCRIPTION:Mannschaft 4 · Saison 2023-2024\n\nTag 6\nCEBA 4 - BCN 2\nAb
 teilung - D4\n\n\nPour la saison 2023-2024\, notre quatrième équipe joue
 ra en Division Départementale 4 Poule C du Bas-Rhin.\nL'équipe 4 termine
  la saison en 5e position sur 7 !\n
URL:https://ceba-strasbourg.org/de/interclubs/equipes/4/2023-2024
DTSTART;TZID=Europe/Paris:20240112T200000
DTEND;TZID=Europe/Paris:20240112T220000
LOCATION:Centre sportif des Droits de l'Homme
GEO:48.599366;7.777333
X-APPLE-STRUCTURED-LOCATION;VALUE=URI;X-ADDRESS=Centre sportif des Droits d
 e l'Homme;X-APPLE-RADIUS=49;X-TITLE=Centre sportif des Droits de l'Homme:g
 eo:48.599366,7.777333
ORGANIZER;CN=Thomas Kapp:mailto:team4@ceba-strasbourg.org
END:VEVENT
BEGIN:VEVENT
UID:2d5fb22458bd0a52b63a29e0bc6f0b51
DTSTAMP:20260420T152851Z
SUMMARY:T7 BCSLPS 2 - CEBA 4
DESCRIPTION:Mannschaft 4 · Saison 2023-2024\n\nTag 7\nBCSLPS 2 - CEBA 4\
 nAbteilung - D4\n\n\nPour la saison 2023-2024\, notre quatrième équipe j
 ouera en Division Départementale 4 Poule C du Bas-Rhin.\nL'équipe 4 term
 ine la saison en 5e position sur 7 !\n
URL:https://ceba-strasbourg.org/de/interclubs/equipes/4/2023-2024
DTSTART;TZID=Europe/Paris:20240123T204500
DTEND;TZID=Europe/Paris:20240123T224500
LOCATION:À définir
ORGANIZER;CN=Thomas Kapp:mailto:team4@ceba-strasbourg.org
END:VEVENT
BEGIN:VEVENT
UID:13b2f9ddfd58a7bc4a430ad2691122f7
DTSTAMP:20260420T152851Z
SUMMARY:T9 ASPTT 9 - CEBA 4
DESCRIPTION:Mannschaft 4 · Saison 2023-2024\n\nTag 9\nASPTT 9 - CEBA 4\n
 Abteilung - D4\n\n\nPour la saison 2023-2024\, notre quatrième équipe jo
 uera en Division Départementale 4 Poule C du Bas-Rhin.\nL'équipe 4 termi
 ne la saison en 5e position sur 7 !\n
URL:https://ceba-strasbourg.org/de/interclubs/equipes/4/2023-2024
DTSTART;TZID=Europe/Paris:20240223T203000
DTEND;TZID=Europe/Paris:20240223T223000
LOCATION:À définir
ORGANIZER;CN=Thomas Kapp:mailto:team4@ceba-strasbourg.org
END:VEVENT
BEGIN:VEVENT
UID:912f851621e9bce472dcf3637239db3b
DTSTAMP:20260420T152851Z
SUMMARY:T10 CEBA 4 - ASCS 5
DESCRIPTION:Mannschaft 4 · Saison 2023-2024\n\nTag 10\nCEBA 4 - ASCS 5\n
 Abteilung - D4\n\n\nPour la saison 2023-2024\, notre quatrième équipe jo
 uera en Division Départementale 4 Poule C du Bas-Rhin.\nL'équipe 4 termi
 ne la saison en 5e position sur 7 !\n
URL:https://ceba-strasbourg.org/de/interclubs/equipes/4/2023-2024
DTSTART;TZID=Europe/Paris:20240315T200000
DTEND;TZID=Europe/Paris:20240315T220000
LOCATION:Centre sportif des Droits de l'Homme
GEO:48.599366;7.777333
X-APPLE-STRUCTURED-LOCATION;VALUE=URI;X-ADDRESS=Centre sportif des Droits d
 e l'Homme;X-APPLE-RADIUS=49;X-TITLE=Centre sportif des Droits de l'Homme:g
 eo:48.599366,7.777333
ORGANIZER;CN=Thomas Kapp:mailto:team4@ceba-strasbourg.org
END:VEVENT
BEGIN:VEVENT
UID:7d7ecdd75a715880e56cf7d5b995e79c
DTSTAMP:20260420T152851Z
SUMMARY:T11 CEBA 4 - ASLR 6
DESCRIPTION:Mannschaft 4 · Saison 2023-2024\n\nTag 11\nCEBA 4 - ASLR 6\n
 Abteilung - D4\n\n\nPour la saison 2023-2024\, notre quatrième équipe jo
 uera en Division Départementale 4 Poule C du Bas-Rhin.\nL'équipe 4 termi
 ne la saison en 5e position sur 7 !\n
URL:https://ceba-strasbourg.org/de/interclubs/equipes/4/2023-2024
DTSTART;TZID=Europe/Paris:20240405T200000
DTEND;TZID=Europe/Paris:20240405T220000
LOCATION:Centre sportif des Droits de l'Homme
GEO:48.599366;7.777333
X-APPLE-STRUCTURED-LOCATION;VALUE=URI;X-ADDRESS=Centre sportif des Droits d
 e l'Homme;X-APPLE-RADIUS=49;X-TITLE=Centre sportif des Droits de l'Homme:g
 eo:48.599366,7.777333
ORGANIZER;CN=Thomas Kapp:mailto:team4@ceba-strasbourg.org
END:VEVENT
BEGIN:VEVENT
UID:56380bd1e962b9408cb270320368124e
DTSTAMP:20260420T152851Z
SUMMARY:T12 HBC 2 - CEBA 4
DESCRIPTION:Mannschaft 4 · Saison 2023-2024\n\nTag 12\nHBC 2 - CEBA 4\nA
 bteilung - D4\n\n\nPour la saison 2023-2024\, notre quatrième équipe jou
 era en Division Départementale 4 Poule C du Bas-Rhin.\nL'équipe 4 termin
 e la saison en 5e position sur 7 !\n
URL:https://ceba-strasbourg.org/de/interclubs/equipes/4/2023-2024
DTSTART;TZID=Europe/Paris:20240412T203000
DTEND;TZID=Europe/Paris:20240412T223000
LOCATION:À définir
ORGANIZER;CN=Thomas Kapp:mailto:team4@ceba-strasbourg.org
END:VEVENT
BEGIN:VEVENT
UID:0c9645b50d37d6fffc25955aa3bdf413
DTSTAMP:20260420T152851Z
SUMMARY:T13 BCN 2 - CEBA 4
DESCRIPTION:Mannschaft 4 · Saison 2023-2024\n\nTag 13\nBCN 2 - CEBA 4\nA
 bteilung - D4\n\n\nPour la saison 2023-2024\, notre quatrième équipe jou
 era en Division Départementale 4 Poule C du Bas-Rhin.\nL'équipe 4 termin
 e la saison en 5e position sur 7 !\n
URL:https://ceba-strasbourg.org/de/interclubs/equipes/4/2023-2024
DTSTART;TZID=Europe/Paris:20240514T200000
DTEND;TZID=Europe/Paris:20240514T220000
LOCATION:À définir
ORGANIZER;CN=Thomas Kapp:mailto:team4@ceba-strasbourg.org
END:VEVENT
BEGIN:VEVENT
UID:b0e7c16cf2b95e21e1445ed322337545
DTSTAMP:20260420T152851Z
SUMMARY:T14 CEBA 4 - BCSLPS 2
DESCRIPTION:Mannschaft 4 · Saison 2023-2024\n\nTag 14\nCEBA 4 - BCSLPS 2
 \nAbteilung - D4\n\n\nPour la saison 2023-2024\, notre quatrième équipe 
 jouera en Division Départementale 4 Poule C du Bas-Rhin.\nL'équipe 4 ter
 mine la saison en 5e position sur 7 !\n
URL:https://ceba-strasbourg.org/de/interclubs/equipes/4/2023-2024
DTSTART;TZID=Europe/Paris:20240524T200000
DTEND;TZID=Europe/Paris:20240524T220000
LOCATION:Centre sportif des Droits de l'Homme
GEO:48.599366;7.777333
X-APPLE-STRUCTURED-LOCATION;VALUE=URI;X-ADDRESS=Centre sportif des Droits d
 e l'Homme;X-APPLE-RADIUS=49;X-TITLE=Centre sportif des Droits de l'Homme:g
 eo:48.599366,7.777333
ORGANIZER;CN=Thomas Kapp:mailto:team4@ceba-strasbourg.org
END:VEVENT
BEGIN:VTIMEZONE
TZID:Europe/Paris
END:VTIMEZONE
END:VCALENDAR
