BEGIN:VCALENDAR
PRODID:-//eluceo/ical//2.0/EN
VERSION:2.0
CALSCALE:GREGORIAN
BEGIN:VEVENT
UID:d8efdd1b13402d8833d879aa91d40bbe
DTSTAMP:20260420T141417Z
SUMMARY:T1 BCMS 5 - CEBA 3
DESCRIPTION:Mannschaft 3 · Saison 2023-2024\n\nTag 1\nBCMS 5 - CEBA 3\nA
 bteilung - D2\n\n\nPour la saison 2023-2024\, notre troisième équipe jou
 era en Division Départementale 2 Poule A du Bas-Rhin.\nL'équipe 3 termin
 e la saison en 6e position sur 8 !\n
URL:https://ceba-strasbourg.org/de/interclubs/equipes/3/2023-2024
DTSTART;TZID=Europe/Paris:20231020T203000
DTEND;TZID=Europe/Paris:20231020T223000
LOCATION:Salle Bon Pasteur\, 67000 Strasbourg
ORGANIZER;CN=Benjamin Seiler:mailto:team3@ceba-strasbourg.org
END:VEVENT
BEGIN:VEVENT
UID:422446ae89e5b171cbdbf59b8210959f
DTSTAMP:20260420T141417Z
SUMMARY:T2 CEBA 3 - MOC 3
DESCRIPTION:Mannschaft 3 · Saison 2023-2024\n\nTag 2\nCEBA 3 - MOC 3\nAb
 teilung - D2\n\n\nPour la saison 2023-2024\, notre troisième équipe joue
 ra en Division Départementale 2 Poule A du Bas-Rhin.\nL'équipe 3 termine
  la saison en 6e position sur 8 !\n
URL:https://ceba-strasbourg.org/de/interclubs/equipes/3/2023-2024
DTSTART;TZID=Europe/Paris:20231117T203000
DTEND;TZID=Europe/Paris:20231117T223000
LOCATION:Centre sportif des Droits de l'Homme
GEO:48.599366;7.777333
X-APPLE-STRUCTURED-LOCATION;VALUE=URI;X-ADDRESS=Centre sportif des Droits d
 e l'Homme;X-APPLE-RADIUS=49;X-TITLE=Centre sportif des Droits de l'Homme:g
 eo:48.599366,7.777333
ORGANIZER;CN=Benjamin Seiler:mailto:team3@ceba-strasbourg.org
END:VEVENT
BEGIN:VEVENT
UID:497dac63a37205a188eb42972d4ceb8b
DTSTAMP:20260420T141417Z
SUMMARY:T3 WOLFIBAD 1 - CEBA 3
DESCRIPTION:Mannschaft 3 · Saison 2023-2024\n\nTag 3\nWOLFIBAD 1 - CEBA 
 3\nAbteilung - D2\n\n\nPour la saison 2023-2024\, notre troisième équipe
  jouera en Division Départementale 2 Poule A du Bas-Rhin.\nL'équipe 3 te
 rmine la saison en 6e position sur 8 !\n
URL:https://ceba-strasbourg.org/de/interclubs/equipes/3/2023-2024
DTSTART;TZID=Europe/Paris:20231120T203000
DTEND;TZID=Europe/Paris:20231120T223000
LOCATION:À définir
ORGANIZER;CN=Benjamin Seiler:mailto:team3@ceba-strasbourg.org
END:VEVENT
BEGIN:VEVENT
UID:9f365e136859a7e8a52fa8073d4fe79f
DTSTAMP:20260420T141417Z
SUMMARY:T4 SLCSN 2 - CEBA 3
DESCRIPTION:Mannschaft 3 · Saison 2023-2024\n\nTag 4\nSLCSN 2 - CEBA 3\n
 Abteilung - D2\n\n\nPour la saison 2023-2024\, notre troisième équipe jo
 uera en Division Départementale 2 Poule A du Bas-Rhin.\nL'équipe 3 termi
 ne la saison en 6e position sur 8 !\n
URL:https://ceba-strasbourg.org/de/interclubs/equipes/3/2023-2024
DTSTART;TZID=Europe/Paris:20231207T200000
DTEND;TZID=Europe/Paris:20231207T220000
LOCATION:À définir
ORGANIZER;CN=Benjamin Seiler:mailto:team3@ceba-strasbourg.org
END:VEVENT
BEGIN:VEVENT
UID:e87c579d7a8f35148b01c11cd1e77f8a
DTSTAMP:20260420T141417Z
SUMMARY:T5 CEBA 3 - HBC 1
DESCRIPTION:Mannschaft 3 · Saison 2023-2024\n\nTag 5\nCEBA 3 - HBC 1\nAb
 teilung - D2\n\n\nPour la saison 2023-2024\, notre troisième équipe joue
 ra en Division Départementale 2 Poule A du Bas-Rhin.\nL'équipe 3 termine
  la saison en 6e position sur 8 !\n
URL:https://ceba-strasbourg.org/de/interclubs/equipes/3/2023-2024
DTSTART;TZID=Europe/Paris:20231215T203000
DTEND;TZID=Europe/Paris:20231215T223000
LOCATION:Centre sportif des Droits de l'Homme
GEO:48.599366;7.777333
X-APPLE-STRUCTURED-LOCATION;VALUE=URI;X-ADDRESS=Centre sportif des Droits d
 e l'Homme;X-APPLE-RADIUS=49;X-TITLE=Centre sportif des Droits de l'Homme:g
 eo:48.599366,7.777333
ORGANIZER;CN=Benjamin Seiler:mailto:team3@ceba-strasbourg.org
END:VEVENT
BEGIN:VEVENT
UID:04708d13bf4da177deab43a789b932b6
DTSTAMP:20260420T141417Z
SUMMARY:T6 CEBA 3 - ASCS 3
DESCRIPTION:Mannschaft 3 · Saison 2023-2024\n\nTag 6\nCEBA 3 - ASCS 3\nA
 bteilung - D2\n\n\nPour la saison 2023-2024\, notre troisième équipe jou
 era en Division Départementale 2 Poule A du Bas-Rhin.\nL'équipe 3 termin
 e la saison en 6e position sur 8 !\n
URL:https://ceba-strasbourg.org/de/interclubs/equipes/3/2023-2024
DTSTART;TZID=Europe/Paris:20240112T203000
DTEND;TZID=Europe/Paris:20240112T223000
LOCATION:Centre sportif des Droits de l'Homme
GEO:48.599366;7.777333
X-APPLE-STRUCTURED-LOCATION;VALUE=URI;X-ADDRESS=Centre sportif des Droits d
 e l'Homme;X-APPLE-RADIUS=49;X-TITLE=Centre sportif des Droits de l'Homme:g
 eo:48.599366,7.777333
ORGANIZER;CN=Benjamin Seiler:mailto:team3@ceba-strasbourg.org
END:VEVENT
BEGIN:VEVENT
UID:c4bdb3eba11fc5d20180aab55bbd1504
DTSTAMP:20260420T141417Z
SUMMARY:T7 CCSSL 1 - CEBA 3
DESCRIPTION:Mannschaft 3 · Saison 2023-2024\n\nTag 7\nCCSSL 1 - CEBA 3\n
 Abteilung - D2\n\n\nPour la saison 2023-2024\, notre troisième équipe jo
 uera en Division Départementale 2 Poule A du Bas-Rhin.\nL'équipe 3 termi
 ne la saison en 6e position sur 8 !\n
URL:https://ceba-strasbourg.org/de/interclubs/equipes/3/2023-2024
DTSTART;TZID=Europe/Paris:20240123T200000
DTEND;TZID=Europe/Paris:20240123T220000
LOCATION:À définir
ORGANIZER;CN=Benjamin Seiler:mailto:team3@ceba-strasbourg.org
END:VEVENT
BEGIN:VEVENT
UID:a226827df1b203801f10515ef86c16a6
DTSTAMP:20260420T141417Z
SUMMARY:T8 CEBA 3 - BCMS 5
DESCRIPTION:Mannschaft 3 · Saison 2023-2024\n\nTag 8\nCEBA 3 - BCMS 5\nA
 bteilung - D2\n\n\nPour la saison 2023-2024\, notre troisième équipe jou
 era en Division Départementale 2 Poule A du Bas-Rhin.\nL'équipe 3 termin
 e la saison en 6e position sur 8 !\n
URL:https://ceba-strasbourg.org/de/interclubs/equipes/3/2023-2024
DTSTART;TZID=Europe/Paris:20240212T200000
DTEND;TZID=Europe/Paris:20240212T220000
LOCATION:Centre sportif des Droits de l'Homme
GEO:48.599366;7.777333
X-APPLE-STRUCTURED-LOCATION;VALUE=URI;X-ADDRESS=Centre sportif des Droits d
 e l'Homme;X-APPLE-RADIUS=49;X-TITLE=Centre sportif des Droits de l'Homme:g
 eo:48.599366,7.777333
ORGANIZER;CN=Benjamin Seiler:mailto:team3@ceba-strasbourg.org
END:VEVENT
BEGIN:VEVENT
UID:b959b6f20ed0205e28d0eda9a9032e77
DTSTAMP:20260420T141417Z
SUMMARY:T9 MOC 3 - CEBA 3
DESCRIPTION:Mannschaft 3 · Saison 2023-2024\n\nTag 9\nMOC 3 - CEBA 3\nAb
 teilung - D2\n\n\nPour la saison 2023-2024\, notre troisième équipe joue
 ra en Division Départementale 2 Poule A du Bas-Rhin.\nL'équipe 3 termine
  la saison en 6e position sur 8 !\n
URL:https://ceba-strasbourg.org/de/interclubs/equipes/3/2023-2024
DTSTART;TZID=Europe/Paris:20240223T203000
DTEND;TZID=Europe/Paris:20240223T223000
LOCATION:À définir
ORGANIZER;CN=Benjamin Seiler:mailto:team3@ceba-strasbourg.org
END:VEVENT
BEGIN:VEVENT
UID:2800cacf191974ac123c01b52f80f9d8
DTSTAMP:20260420T141417Z
SUMMARY:T10 CEBA 3 - WOLFIBAD 1
DESCRIPTION:Mannschaft 3 · Saison 2023-2024\n\nTag 10\nCEBA 3 - WOLFIBAD
  1\nAbteilung - D2\n\n\nPour la saison 2023-2024\, notre troisième équi
 pe jouera en Division Départementale 2 Poule A du Bas-Rhin.\nL'équipe 3 
 termine la saison en 6e position sur 8 !\n
URL:https://ceba-strasbourg.org/de/interclubs/equipes/3/2023-2024
DTSTART;TZID=Europe/Paris:20240315T203000
DTEND;TZID=Europe/Paris:20240315T223000
LOCATION:Centre sportif des Droits de l'Homme
GEO:48.599366;7.777333
X-APPLE-STRUCTURED-LOCATION;VALUE=URI;X-ADDRESS=Centre sportif des Droits d
 e l'Homme;X-APPLE-RADIUS=49;X-TITLE=Centre sportif des Droits de l'Homme:g
 eo:48.599366,7.777333
ORGANIZER;CN=Benjamin Seiler:mailto:team3@ceba-strasbourg.org
END:VEVENT
BEGIN:VEVENT
UID:5ac2fd0601a9b145e901039ec6068c89
DTSTAMP:20260420T141417Z
SUMMARY:T11 CEBA 3 - SLCSN 2
DESCRIPTION:Mannschaft 3 · Saison 2023-2024\n\nTag 11\nCEBA 3 - SLCSN 2\
 nAbteilung - D2\n\n\nPour la saison 2023-2024\, notre troisième équipe j
 ouera en Division Départementale 2 Poule A du Bas-Rhin.\nL'équipe 3 term
 ine la saison en 6e position sur 8 !\n
URL:https://ceba-strasbourg.org/de/interclubs/equipes/3/2023-2024
DTSTART;TZID=Europe/Paris:20240405T203000
DTEND;TZID=Europe/Paris:20240405T223000
LOCATION:Centre sportif des Droits de l'Homme
GEO:48.599366;7.777333
X-APPLE-STRUCTURED-LOCATION;VALUE=URI;X-ADDRESS=Centre sportif des Droits d
 e l'Homme;X-APPLE-RADIUS=49;X-TITLE=Centre sportif des Droits de l'Homme:g
 eo:48.599366,7.777333
ORGANIZER;CN=Benjamin Seiler:mailto:team3@ceba-strasbourg.org
END:VEVENT
BEGIN:VEVENT
UID:f19b266335c33421b79ec858cf26dbf9
DTSTAMP:20260420T141417Z
SUMMARY:T12 HBC 1 - CEBA 3
DESCRIPTION:Mannschaft 3 · Saison 2023-2024\n\nTag 12\nHBC 1 - CEBA 3\nA
 bteilung - D2\n\n\nPour la saison 2023-2024\, notre troisième équipe jou
 era en Division Départementale 2 Poule A du Bas-Rhin.\nL'équipe 3 termin
 e la saison en 6e position sur 8 !\n
URL:https://ceba-strasbourg.org/de/interclubs/equipes/3/2023-2024
DTSTART;TZID=Europe/Paris:20240412T203000
DTEND;TZID=Europe/Paris:20240412T223000
LOCATION:À définir
ORGANIZER;CN=Benjamin Seiler:mailto:team3@ceba-strasbourg.org
END:VEVENT
BEGIN:VEVENT
UID:57d2a8adb845dc482b4bd9d87927341b
DTSTAMP:20260420T141417Z
SUMMARY:T13 ASCS 3 - CEBA 3
DESCRIPTION:Mannschaft 3 · Saison 2023-2024\n\nTag 13\nASCS 3 - CEBA 3\n
 Abteilung - D2\n\n\nPour la saison 2023-2024\, notre troisième équipe jo
 uera en Division Départementale 2 Poule A du Bas-Rhin.\nL'équipe 3 termi
 ne la saison en 6e position sur 8 !\n
URL:https://ceba-strasbourg.org/de/interclubs/equipes/3/2023-2024
DTSTART;TZID=Europe/Paris:20240513T203000
DTEND;TZID=Europe/Paris:20240513T223000
LOCATION:À définir
ORGANIZER;CN=Benjamin Seiler:mailto:team3@ceba-strasbourg.org
END:VEVENT
BEGIN:VEVENT
UID:6b84b38de6bab64f6f0e56aa0ea7df16
DTSTAMP:20260420T141417Z
SUMMARY:T14 CEBA 3 - CCSSL 1
DESCRIPTION:Mannschaft 3 · Saison 2023-2024\n\nTag 14\nCEBA 3 - CCSSL 1\
 nAbteilung - D2\n\n\nPour la saison 2023-2024\, notre troisième équipe j
 ouera en Division Départementale 2 Poule A du Bas-Rhin.\nL'équipe 3 term
 ine la saison en 6e position sur 8 !\n
URL:https://ceba-strasbourg.org/de/interclubs/equipes/3/2023-2024
DTSTART;TZID=Europe/Paris:20240529T203000
DTEND;TZID=Europe/Paris:20240529T223000
LOCATION:Centre sportif des Droits de l'Homme
GEO:48.599366;7.777333
X-APPLE-STRUCTURED-LOCATION;VALUE=URI;X-ADDRESS=Centre sportif des Droits d
 e l'Homme;X-APPLE-RADIUS=49;X-TITLE=Centre sportif des Droits de l'Homme:g
 eo:48.599366,7.777333
ORGANIZER;CN=Benjamin Seiler:mailto:team3@ceba-strasbourg.org
END:VEVENT
BEGIN:VTIMEZONE
TZID:Europe/Paris
END:VTIMEZONE
END:VCALENDAR
