BEGIN:VCALENDAR
PRODID:-//eluceo/ical//2.0/EN
VERSION:2.0
CALSCALE:GREGORIAN
BEGIN:VEVENT
UID:fb5ab959f9e864e26c0b5cac0b0a2024
DTSTAMP:20260420T140816Z
SUMMARY:T1 CEBA 2 - ASPTT 6
DESCRIPTION:Mannschaft 2 · Saison 2023-2024\n\nTag 1\nCEBA 2 - ASPTT 6\n
 Abteilung - D1\n\nPour la saison 2023-2024\, notre deuxième équipe jouer
 a en Division Départementale 1 Poule C du Bas-Rhin.L'équipe 2 termine la
  saison en 1er position sur 11 !\n
URL:https://ceba-strasbourg.org/de/interclubs/equipes/2/2023-2024
DTSTART;TZID=Europe/Paris:20231027T203000
DTEND;TZID=Europe/Paris:20231027T223000
LOCATION:Centre sportif des Droits de l'Homme
GEO:48.599366;7.777333
X-APPLE-STRUCTURED-LOCATION;VALUE=URI;X-ADDRESS=Centre sportif des Droits d
 e l'Homme;X-APPLE-RADIUS=49;X-TITLE=Centre sportif des Droits de l'Homme:g
 eo:48.599366,7.777333
ORGANIZER;CN=Jérémie Castel:mailto:team2@ceba-strasbourg.org
END:VEVENT
BEGIN:VEVENT
UID:09349b4df2715349ad80f2935c7f6191
DTSTAMP:20260420T140816Z
SUMMARY:T2 CEBA 2 - EVE 1
DESCRIPTION:Mannschaft 2 · Saison 2023-2024\n\nTag 2\nCEBA 2 - EVE 1\nAb
 teilung - D1\n\nPour la saison 2023-2024\, notre deuxième équipe jouera 
 en Division Départementale 1 Poule C du Bas-Rhin.L'équipe 2 termine la s
 aison en 1er position sur 11 !\n
URL:https://ceba-strasbourg.org/de/interclubs/equipes/2/2023-2024
DTSTART;TZID=Europe/Paris:20231110T203000
DTEND;TZID=Europe/Paris:20231110T223000
LOCATION:Centre sportif des Droits de l'Homme
GEO:48.599366;7.777333
X-APPLE-STRUCTURED-LOCATION;VALUE=URI;X-ADDRESS=Centre sportif des Droits d
 e l'Homme;X-APPLE-RADIUS=49;X-TITLE=Centre sportif des Droits de l'Homme:g
 eo:48.599366,7.777333
ORGANIZER;CN=Jérémie Castel:mailto:team2@ceba-strasbourg.org
END:VEVENT
BEGIN:VEVENT
UID:71eb740e5ae0620a79f470206f884381
DTSTAMP:20260420T140816Z
SUMMARY:T3 BCO 5 - CEBA 2
DESCRIPTION:Mannschaft 2 · Saison 2023-2024\n\nTag 3\nBCO 5 - CEBA 2\nAb
 teilung - D1\n\nPour la saison 2023-2024\, notre deuxième équipe jouera 
 en Division Départementale 1 Poule C du Bas-Rhin.L'équipe 2 termine la s
 aison en 1er position sur 11 !\n
URL:https://ceba-strasbourg.org/de/interclubs/equipes/2/2023-2024
DTSTART;TZID=Europe/Paris:20231124T203000
DTEND;TZID=Europe/Paris:20231124T223000
LOCATION:Cosec - Rue des Lilas - 67540 OSTWALD
ORGANIZER;CN=Jérémie Castel:mailto:team2@ceba-strasbourg.org
END:VEVENT
BEGIN:VEVENT
UID:d513f3174ebcd38cfa8ea5ab03a8325e
DTSTAMP:20260420T140816Z
SUMMARY:T4 CEBA 2 - BCMS 4
DESCRIPTION:Mannschaft 2 · Saison 2023-2024\n\nTag 4\nCEBA 2 - BCMS 4\nA
 bteilung - D1\n\nPour la saison 2023-2024\, notre deuxième équipe jouera
  en Division Départementale 1 Poule C du Bas-Rhin.L'équipe 2 termine la 
 saison en 1er position sur 11 !\n
URL:https://ceba-strasbourg.org/de/interclubs/equipes/2/2023-2024
DTSTART;TZID=Europe/Paris:20231206T203000
DTEND;TZID=Europe/Paris:20231206T223000
LOCATION:Centre sportif des Droits de l'Homme
GEO:48.599366;7.777333
X-APPLE-STRUCTURED-LOCATION;VALUE=URI;X-ADDRESS=Centre sportif des Droits d
 e l'Homme;X-APPLE-RADIUS=49;X-TITLE=Centre sportif des Droits de l'Homme:g
 eo:48.599366,7.777333
ORGANIZER;CN=Jérémie Castel:mailto:team2@ceba-strasbourg.org
END:VEVENT
BEGIN:VEVENT
UID:04aee923a6de6e8a753d5c34e4257187
DTSTAMP:20260420T140816Z
SUMMARY:T5 CEBA 2 - BCIG 1
DESCRIPTION:Mannschaft 2 · Saison 2023-2024\n\nTag 5\nCEBA 2 - BCIG 1\nA
 bteilung - D1\n\nPour la saison 2023-2024\, notre deuxième équipe jouera
  en Division Départementale 1 Poule C du Bas-Rhin.L'équipe 2 termine la 
 saison en 1er position sur 11 !\n
URL:https://ceba-strasbourg.org/de/interclubs/equipes/2/2023-2024
DTSTART;TZID=Europe/Paris:20231215T203000
DTEND;TZID=Europe/Paris:20231215T223000
LOCATION:Gymnase des vignes rue des vignes 67400 Illkirch
ORGANIZER;CN=Jérémie Castel:mailto:team2@ceba-strasbourg.org
END:VEVENT
BEGIN:VEVENT
UID:5d5df65770c668dfb25bec0c14a14cb8
DTSTAMP:20260420T140816Z
SUMMARY:T6 ASPTT 6 - CEBA 2
DESCRIPTION:Mannschaft 2 · Saison 2023-2024\n\nTag 6\nASPTT 6 - CEBA 2\n
 Abteilung - D1\n\nPour la saison 2023-2024\, notre deuxième équipe jouer
 a en Division Départementale 1 Poule C du Bas-Rhin.L'équipe 2 termine la
  saison en 1er position sur 11 !\n
URL:https://ceba-strasbourg.org/de/interclubs/equipes/2/2023-2024
DTSTART;TZID=Europe/Paris:20240112T203000
DTEND;TZID=Europe/Paris:20240112T223000
LOCATION:Gymnase Herrade\, 43 Allee des Comtes\, 67200 Strasbourg
ORGANIZER;CN=Jérémie Castel:mailto:team2@ceba-strasbourg.org
END:VEVENT
BEGIN:VEVENT
UID:73f13a670f0dbe944662dd9e3a246e7b
DTSTAMP:20260420T140816Z
SUMMARY:T7 EVE 1 - CEBA 2
DESCRIPTION:Mannschaft 2 · Saison 2023-2024\n\nTag 7\nEVE 1 - CEBA 2\nAb
 teilung - D1\n\nPour la saison 2023-2024\, notre deuxième équipe jouera 
 en Division Départementale 1 Poule C du Bas-Rhin.L'équipe 2 termine la s
 aison en 1er position sur 11 !\n
URL:https://ceba-strasbourg.org/de/interclubs/equipes/2/2023-2024
DTSTART;TZID=Europe/Paris:20240126T203000
DTEND;TZID=Europe/Paris:20240126T223000
LOCATION:L'Envol
ORGANIZER;CN=Jérémie Castel:mailto:team2@ceba-strasbourg.org
END:VEVENT
BEGIN:VEVENT
UID:64e63bfa9d287d402982a423af458e7e
DTSTAMP:20260420T140816Z
SUMMARY:T8 CEBA 2 - BCO 5
DESCRIPTION:Mannschaft 2 · Saison 2023-2024\n\nTag 8\nCEBA 2 - BCO 5\nAb
 teilung - D1\n\nPour la saison 2023-2024\, notre deuxième équipe jouera 
 en Division Départementale 1 Poule C du Bas-Rhin.L'équipe 2 termine la s
 aison en 1er position sur 11 !\n
URL:https://ceba-strasbourg.org/de/interclubs/equipes/2/2023-2024
DTSTART;TZID=Europe/Paris:20240216T203000
DTEND;TZID=Europe/Paris:20240216T223000
LOCATION:Centre sportif des Droits de l'Homme
GEO:48.599366;7.777333
X-APPLE-STRUCTURED-LOCATION;VALUE=URI;X-ADDRESS=Centre sportif des Droits d
 e l'Homme;X-APPLE-RADIUS=49;X-TITLE=Centre sportif des Droits de l'Homme:g
 eo:48.599366,7.777333
ORGANIZER;CN=Jérémie Castel:mailto:team2@ceba-strasbourg.org
END:VEVENT
BEGIN:VEVENT
UID:08139e54259c408ffe63b3b45c66b759
DTSTAMP:20260420T140816Z
SUMMARY:T9 BCMS 4 - CEBA 2
DESCRIPTION:Mannschaft 2 · Saison 2023-2024\n\nTag 9\nBCMS 4 - CEBA 2\nA
 bteilung - D1\n\nPour la saison 2023-2024\, notre deuxième équipe jouera
  en Division Départementale 1 Poule C du Bas-Rhin.L'équipe 2 termine la 
 saison en 1er position sur 11 !\n
URL:https://ceba-strasbourg.org/de/interclubs/equipes/2/2023-2024
DTSTART;TZID=Europe/Paris:20240223T203000
DTEND;TZID=Europe/Paris:20240223T223000
LOCATION:Salle Bon Pasteur\, 12 Bd Jean-Sébastien Bach\, 67000 Strasbourg
ORGANIZER;CN=Jérémie Castel:mailto:team2@ceba-strasbourg.org
END:VEVENT
BEGIN:VEVENT
UID:6e08afd7d1185e0c573a2379f283790b
DTSTAMP:20260420T140816Z
SUMMARY:T10 BCIG 1 - CEBA 2
DESCRIPTION:Mannschaft 2 · Saison 2023-2024\n\nTag 10\nBCIG 1 - CEBA 2\n
 Abteilung - D1\n\nPour la saison 2023-2024\, notre deuxième équipe jouer
 a en Division Départementale 1 Poule C du Bas-Rhin.L'équipe 2 termine la
  saison en 1er position sur 11 !\n
URL:https://ceba-strasbourg.org/de/interclubs/equipes/2/2023-2024
DTSTART;TZID=Europe/Paris:20240311T204500
DTEND;TZID=Europe/Paris:20240311T224500
LOCATION:Centre sportif des Droits de l'Homme
GEO:48.599366;7.777333
X-APPLE-STRUCTURED-LOCATION;VALUE=URI;X-ADDRESS=Centre sportif des Droits d
 e l'Homme;X-APPLE-RADIUS=49;X-TITLE=Centre sportif des Droits de l'Homme:g
 eo:48.599366,7.777333
ORGANIZER;CN=Jérémie Castel:mailto:team2@ceba-strasbourg.org
END:VEVENT
BEGIN:VEVENT
UID:21635424e4120ac6ce4727450e69c63c
DTSTAMP:20260420T140816Z
SUMMARY:R1 BCS 3 - CEBA 2
DESCRIPTION:Mannschaft 2 · Saison 2023-2024\n\nRangliste 1\nBCS 3 - CEBA 
 2\nAbteilung - D1\n\nPour la saison 2023-2024\, notre deuxième équipe jo
 uera en Division Départementale 1 Poule C du Bas-Rhin.L'équipe 2 termine
  la saison en 1er position sur 11 !\n
URL:https://ceba-strasbourg.org/de/interclubs/equipes/2/2023-2024
DTSTART;TZID=Europe/Paris:20240505T090000
DTEND;TZID=Europe/Paris:20240505T110000
LOCATION:Salle Glassmann\, 57370 Phalsbourg
GEO:48.769460;7.268590
X-APPLE-STRUCTURED-LOCATION;VALUE=URI;X-ADDRESS=Salle Glassmann\, 57370 Pha
 lsbourg;X-APPLE-RADIUS=49;X-TITLE=Salle Glassmann\, 57370 Phalsbourg:geo:4
 8.769460,7.268590
ORGANIZER;CN=Jérémie Castel:mailto:team2@ceba-strasbourg.org
END:VEVENT
BEGIN:VEVENT
UID:bfbfe571cb9db8acde4c0a2fd7a0c507
DTSTAMP:20260420T140816Z
SUMMARY:R2 BCMS 3 - CEBA 2
DESCRIPTION:Mannschaft 2 · Saison 2023-2024\n\nRangliste 2\nBCMS 3 - CEBA
  2\nAbteilung - D1\n\nPour la saison 2023-2024\, notre deuxième équipe 
 jouera en Division Départementale 1 Poule C du Bas-Rhin.L'équipe 2 termi
 ne la saison en 1er position sur 11 !\n
URL:https://ceba-strasbourg.org/de/interclubs/equipes/2/2023-2024
DTSTART;TZID=Europe/Paris:20240505T130000
DTEND;TZID=Europe/Paris:20240505T150000
LOCATION:Salle Glassmann\, 57370 Phalsbourg
GEO:48.769460;7.268590
X-APPLE-STRUCTURED-LOCATION;VALUE=URI;X-ADDRESS=Salle Glassmann\, 57370 Pha
 lsbourg;X-APPLE-RADIUS=49;X-TITLE=Salle Glassmann\, 57370 Phalsbourg:geo:4
 8.769460,7.268590
ORGANIZER;CN=Jérémie Castel:mailto:team2@ceba-strasbourg.org
END:VEVENT
BEGIN:VEVENT
UID:f7905d2b104f993ac0286b0baa4dd141
DTSTAMP:20260420T140816Z
SUMMARY:R3 CEBA 2 - PBC 2
DESCRIPTION:Mannschaft 2 · Saison 2023-2024\n\nRangliste 3\nCEBA 2 - PBC 
 2\nAbteilung - D1\n\nPour la saison 2023-2024\, notre deuxième équipe jo
 uera en Division Départementale 1 Poule C du Bas-Rhin.L'équipe 2 termine
  la saison en 1er position sur 11 !\n
URL:https://ceba-strasbourg.org/de/interclubs/equipes/2/2023-2024
DTSTART;TZID=Europe/Paris:20240505T160000
DTEND;TZID=Europe/Paris:20240505T180000
LOCATION:Salle Glassmann\, 57370 Phalsbourg
GEO:48.769460;7.268590
X-APPLE-STRUCTURED-LOCATION;VALUE=URI;X-ADDRESS=Salle Glassmann\, 57370 Pha
 lsbourg;X-APPLE-RADIUS=49;X-TITLE=Salle Glassmann\, 57370 Phalsbourg:geo:4
 8.769460,7.268590
ORGANIZER;CN=Jérémie Castel:mailto:team2@ceba-strasbourg.org
END:VEVENT
BEGIN:VTIMEZONE
TZID:Europe/Paris
END:VTIMEZONE
END:VCALENDAR
