BEGIN:VCALENDAR
PRODID:-//eluceo/ical//2.0/EN
VERSION:2.0
CALSCALE:GREGORIAN
BEGIN:VEVENT
UID:d56e39be07e73caf109d8619976e07fa
DTSTAMP:20260420T180405Z
SUMMARY:T1 BCS 2 - CEBA 4
DESCRIPTION:Mannschaft 4 · Saison 2014-2015\n\nTag 1\nBCS 2 - CEBA 4\nAb
 teilung - D2\n\nSaison 2014-2015\n
URL:https://ceba-strasbourg.org/de/interclubs/equipes/4/2014-2015
DTSTART;TZID=Europe/Paris:20141015T203000
DTEND;TZID=Europe/Paris:20141015T223000
LOCATION: 
ORGANIZER;CN=Laurent Tailfer:mailto:team4@ceba-strasbourg.org
END:VEVENT
BEGIN:VEVENT
UID:04a42fff75f5dadd59be805f214582ee
DTSTAMP:20260420T180405Z
SUMMARY:T2 BCO 4 - CEBA 4
DESCRIPTION:Mannschaft 4 · Saison 2014-2015\n\nTag 2\nBCO 4 - CEBA 4\nAb
 teilung - D2\n\nSaison 2014-2015\n
URL:https://ceba-strasbourg.org/de/interclubs/equipes/4/2014-2015
DTSTART;TZID=Europe/Paris:20141112T203000
DTEND;TZID=Europe/Paris:20141112T223000
LOCATION: 
ORGANIZER;CN=Laurent Tailfer:mailto:team4@ceba-strasbourg.org
END:VEVENT
BEGIN:VEVENT
UID:cd3820f99f9578bbad3bcb31cc21a9f3
DTSTAMP:20260420T180405Z
SUMMARY:T3 CEBA 4 - PBC 2
DESCRIPTION:Mannschaft 4 · Saison 2014-2015\n\nTag 3\nCEBA 4 - PBC 2\nAb
 teilung - D2\n\nSaison 2014-2015\n
URL:https://ceba-strasbourg.org/de/interclubs/equipes/4/2014-2015
DTSTART;TZID=Europe/Paris:20141128T203000
DTEND;TZID=Europe/Paris:20141128T223000
LOCATION:Centre sportif des Droits de l'Homme
GEO:48.599366;7.777333
X-APPLE-STRUCTURED-LOCATION;VALUE=URI;X-ADDRESS=Centre sportif des Droits d
 e l'Homme;X-APPLE-RADIUS=49;X-TITLE=Centre sportif des Droits de l'Homme:g
 eo:48.599366,7.777333
ORGANIZER;CN=Laurent Tailfer:mailto:team4@ceba-strasbourg.org
END:VEVENT
BEGIN:VEVENT
UID:c88331f8cbf2ea446af665ced03bbbec
DTSTAMP:20260420T180405Z
SUMMARY:T4 CEBA 4 - ASPTT 6
DESCRIPTION:Mannschaft 4 · Saison 2014-2015\n\nTag 4\nCEBA 4 - ASPTT 6\n
 Abteilung - D2\n\nSaison 2014-2015\n
URL:https://ceba-strasbourg.org/de/interclubs/equipes/4/2014-2015
DTSTART;TZID=Europe/Paris:20141212T203000
DTEND;TZID=Europe/Paris:20141212T223000
LOCATION:Centre sportif des Droits de l'Homme
GEO:48.599366;7.777333
X-APPLE-STRUCTURED-LOCATION;VALUE=URI;X-ADDRESS=Centre sportif des Droits d
 e l'Homme;X-APPLE-RADIUS=49;X-TITLE=Centre sportif des Droits de l'Homme:g
 eo:48.599366,7.777333
ORGANIZER;CN=Laurent Tailfer:mailto:team4@ceba-strasbourg.org
END:VEVENT
BEGIN:VEVENT
UID:731a6f9d895d47331dd7f0ff427d29ff
DTSTAMP:20260420T180405Z
SUMMARY:T5 ASLR 4 - CEBA 4
DESCRIPTION:Mannschaft 4 · Saison 2014-2015\n\nTag 5\nASLR 4 - CEBA 4\nA
 bteilung - D2\n\nSaison 2014-2015\n
URL:https://ceba-strasbourg.org/de/interclubs/equipes/4/2014-2015
DTSTART;TZID=Europe/Paris:20141219T200000
DTEND;TZID=Europe/Paris:20141219T220000
LOCATION: 
ORGANIZER;CN=Laurent Tailfer:mailto:team4@ceba-strasbourg.org
END:VEVENT
BEGIN:VEVENT
UID:68802c615e41c3ce3a5a898b23a9d37a
DTSTAMP:20260420T180405Z
SUMMARY:T6 ABC 1 - CEBA 4
DESCRIPTION:Mannschaft 4 · Saison 2014-2015\n\nTag 6\nABC 1 - CEBA 4\nAb
 teilung - D2\n\nSaison 2014-2015\n
URL:https://ceba-strasbourg.org/de/interclubs/equipes/4/2014-2015
DTSTART;TZID=Europe/Paris:20150108T203000
DTEND;TZID=Europe/Paris:20150108T223000
LOCATION: 
ORGANIZER;CN=Laurent Tailfer:mailto:team4@ceba-strasbourg.org
END:VEVENT
BEGIN:VEVENT
UID:676d1691b192b8bdbf98c0c212553956
DTSTAMP:20260420T180405Z
SUMMARY:T7 CEBA 4 - ENA Bad Lampertheim 1
DESCRIPTION:Mannschaft 4 · Saison 2014-2015\n\nTag 7\nCEBA 4 - ENA Bad La
 mpertheim 1\nAbteilung - D2\n\nSaison 2014-2015\n
URL:https://ceba-strasbourg.org/de/interclubs/equipes/4/2014-2015
DTSTART;TZID=Europe/Paris:20150123T203000
DTEND;TZID=Europe/Paris:20150123T223000
LOCATION:Centre sportif des Droits de l'Homme
GEO:48.599366;7.777333
X-APPLE-STRUCTURED-LOCATION;VALUE=URI;X-ADDRESS=Centre sportif des Droits d
 e l'Homme;X-APPLE-RADIUS=49;X-TITLE=Centre sportif des Droits de l'Homme:g
 eo:48.599366,7.777333
ORGANIZER;CN=Laurent Tailfer:mailto:team4@ceba-strasbourg.org
END:VEVENT
BEGIN:VEVENT
UID:2a604b767d45fab05526af449ffc166f
DTSTAMP:20260420T180405Z
SUMMARY:T8 CEBA 4 - BCS 2
DESCRIPTION:Mannschaft 4 · Saison 2014-2015\n\nTag 8\nCEBA 4 - BCS 2\nAb
 teilung - D2\n\nSaison 2014-2015\n
URL:https://ceba-strasbourg.org/de/interclubs/equipes/4/2014-2015
DTSTART;TZID=Europe/Paris:20150206T203000
DTEND;TZID=Europe/Paris:20150206T223000
LOCATION:Centre sportif des Droits de l'Homme
GEO:48.599366;7.777333
X-APPLE-STRUCTURED-LOCATION;VALUE=URI;X-ADDRESS=Centre sportif des Droits d
 e l'Homme;X-APPLE-RADIUS=49;X-TITLE=Centre sportif des Droits de l'Homme:g
 eo:48.599366,7.777333
ORGANIZER;CN=Laurent Tailfer:mailto:team4@ceba-strasbourg.org
END:VEVENT
BEGIN:VEVENT
UID:6936cf63a8e8a0370fcd5f5a9b13ad78
DTSTAMP:20260420T180405Z
SUMMARY:T9 CEBA 4 - BCO 4
DESCRIPTION:Mannschaft 4 · Saison 2014-2015\n\nTag 9\nCEBA 4 - BCO 4\nAb
 teilung - D2\n\nSaison 2014-2015\n
URL:https://ceba-strasbourg.org/de/interclubs/equipes/4/2014-2015
DTSTART;TZID=Europe/Paris:20150220T203000
DTEND;TZID=Europe/Paris:20150220T223000
LOCATION:Centre sportif des Droits de l'Homme
GEO:48.599366;7.777333
X-APPLE-STRUCTURED-LOCATION;VALUE=URI;X-ADDRESS=Centre sportif des Droits d
 e l'Homme;X-APPLE-RADIUS=49;X-TITLE=Centre sportif des Droits de l'Homme:g
 eo:48.599366,7.777333
ORGANIZER;CN=Laurent Tailfer:mailto:team4@ceba-strasbourg.org
END:VEVENT
BEGIN:VEVENT
UID:20e9b4214d34d226ca241560057464f1
DTSTAMP:20260420T180405Z
SUMMARY:T10 PBC 2 - CEBA 4
DESCRIPTION:Mannschaft 4 · Saison 2014-2015\n\nTag 10\nPBC 2 - CEBA 4\nA
 bteilung - D2\n\nSaison 2014-2015\n
URL:https://ceba-strasbourg.org/de/interclubs/equipes/4/2014-2015
DTSTART;TZID=Europe/Paris:20150311T203000
DTEND;TZID=Europe/Paris:20150311T223000
LOCATION: 
ORGANIZER;CN=Laurent Tailfer:mailto:team4@ceba-strasbourg.org
END:VEVENT
BEGIN:VEVENT
UID:566974e1b7f637ac948e6c5d8d843ea0
DTSTAMP:20260420T180405Z
SUMMARY:T11 ASPTT 6 - CEBA 4
DESCRIPTION:Mannschaft 4 · Saison 2014-2015\n\nTag 11\nASPTT 6 - CEBA 4\
 nAbteilung - D2\n\nSaison 2014-2015\n
URL:https://ceba-strasbourg.org/de/interclubs/equipes/4/2014-2015
DTSTART;TZID=Europe/Paris:20150320T203000
DTEND;TZID=Europe/Paris:20150320T223000
LOCATION: 
ORGANIZER;CN=Laurent Tailfer:mailto:team4@ceba-strasbourg.org
END:VEVENT
BEGIN:VEVENT
UID:c44cf19ae70208ce7d75af259c329f19
DTSTAMP:20260420T180405Z
SUMMARY:T12 CEBA 4 - ASLR 4
DESCRIPTION:Mannschaft 4 · Saison 2014-2015\n\nTag 12\nCEBA 4 - ASLR 4\n
 Abteilung - D2\n\nSaison 2014-2015\n
URL:https://ceba-strasbourg.org/de/interclubs/equipes/4/2014-2015
DTSTART;TZID=Europe/Paris:20150401T200000
DTEND;TZID=Europe/Paris:20150401T220000
LOCATION:Centre sportif des Droits de l'Homme
GEO:48.599366;7.777333
X-APPLE-STRUCTURED-LOCATION;VALUE=URI;X-ADDRESS=Centre sportif des Droits d
 e l'Homme;X-APPLE-RADIUS=49;X-TITLE=Centre sportif des Droits de l'Homme:g
 eo:48.599366,7.777333
ORGANIZER;CN=Laurent Tailfer:mailto:team4@ceba-strasbourg.org
END:VEVENT
BEGIN:VEVENT
UID:1c27fd120a1b08ba14bc240219ba4cbf
DTSTAMP:20260420T180405Z
SUMMARY:T13 CEBA 4 - ABC 1
DESCRIPTION:Mannschaft 4 · Saison 2014-2015\n\nTag 13\nCEBA 4 - ABC 1\nA
 bteilung - D2\n\nSaison 2014-2015\n
URL:https://ceba-strasbourg.org/de/interclubs/equipes/4/2014-2015
DTSTART;TZID=Europe/Paris:20150410T203000
DTEND;TZID=Europe/Paris:20150410T223000
LOCATION:Centre sportif des Droits de l'Homme
GEO:48.599366;7.777333
X-APPLE-STRUCTURED-LOCATION;VALUE=URI;X-ADDRESS=Centre sportif des Droits d
 e l'Homme;X-APPLE-RADIUS=49;X-TITLE=Centre sportif des Droits de l'Homme:g
 eo:48.599366,7.777333
ORGANIZER;CN=Laurent Tailfer:mailto:team4@ceba-strasbourg.org
END:VEVENT
BEGIN:VEVENT
UID:7bf4e2a01c5882eb090064eef07e916e
DTSTAMP:20260420T180405Z
SUMMARY:T14 ENA Bad Lampertheim 1 - CEBA 4
DESCRIPTION:Mannschaft 4 · Saison 2014-2015\n\nTag 14\nENA Bad Lampertheim
  1 - CEBA 4\nAbteilung - D2\n\nSaison 2014-2015\n
URL:https://ceba-strasbourg.org/de/interclubs/equipes/4/2014-2015
DTSTART;TZID=Europe/Paris:20150416T204500
DTEND;TZID=Europe/Paris:20150416T224500
LOCATION: 
ORGANIZER;CN=Laurent Tailfer:mailto:team4@ceba-strasbourg.org
END:VEVENT
BEGIN:VEVENT
UID:3f39b3cbc80dc08897e2904fec0e663e
DTSTAMP:20260420T180405Z
SUMMARY:R1 BCMS 2 - CEBA 4
DESCRIPTION:Mannschaft 4 · Saison 2014-2015\n\nRangliste 1\nBCMS 2 - CEBA
  4\nAbteilung - D2\n\nSaison 2014-2015\n
URL:https://ceba-strasbourg.org/de/interclubs/equipes/4/2014-2015
DTSTART;TZID=Europe/Paris:20150522T203000
DTEND;TZID=Europe/Paris:20150522T223000
LOCATION: 
ORGANIZER;CN=Laurent Tailfer:mailto:team4@ceba-strasbourg.org
END:VEVENT
BEGIN:VTIMEZONE
TZID:Europe/Paris
END:VTIMEZONE
END:VCALENDAR
